BEGIN:VCALENDAR
VERSION:2.0
PRODID:-//lickingswcd.com//NONSGML kigkonsult.se iCalcreator 2.30.10//
CALSCALE:GREGORIAN
METHOD:PUBLISH
UID:e85f6081-46db-41d0-88fc-5617e998735b
X-WR-CALDESC:Our Seedling Tree Sale Pick up is 8:30 a.m. to 7 p.m.\, Thursd
 ay\, April 13\, 2017 at the Licking Soil & Water Office\, 771 E. Main St.\
 , Newark\, Ohio 43055.
X-WR-RELCALID:50eed216643441ffe9b3b3c6d94e474a
X-WR-TIMEZONE:America/New_York
BEGIN:VTIMEZONE
TZID:America/New_York
BEGIN:STANDARD
TZNAME:EST
DTSTART:20161106T020000
TZOFFSETFROM:-0400
TZOFFSETTO:-0500
RDATE:20171105T020000
END:STANDARD
BEGIN:DAYLIGHT
TZNAME:EDT
DTSTART:20170312T020000
TZOFFSETFROM:-0500
TZOFFSETTO:-0400
RDATE:20180311T020000
END:DAYLIGHT
END:VTIMEZONE
BEGIN:VEVENT
UID:763bfa52-b287-4be7-aa3c-3314f0a64870
DTSTAMP:20260421T212138Z
DESCRIPTION:Our Seedling Tree Sale Pick up is 8:30 a.m. to 7 p.m.\, Thursda
 y\, April 13\, 2017 at the Licking Soil & Water Office\, 771 E. Main St.\,
  Newark\, Ohio 43055.
DTSTART;TZID=America/New_York:20170413T083000
DTEND;TZID=America/New_York:20170413T190000
LOCATION:Licking Soil & Water Office\, 771 E. Main St.\, Newark\, Ohio 4305
 5
SUMMARY:Tree Sale Pick up Day
END:VEVENT
END:VCALENDAR
