BEGIN:VCALENDAR
VERSION:2.0
PRODID:-//lickingswcd.com//NONSGML kigkonsult.se iCalcreator 2.30.10//
CALSCALE:GREGORIAN
METHOD:PUBLISH
UID:4fdc5992-a44f-4eea-9941-015272755ebc
X-WR-CALDESC:Test your knowledge at our nature trivia night co-hosted with 
 Young Leaders of Licking County and the Licking Park District\, 6 - 8p\, T
 hursday\, April 20\, at Buckeye Lake Brewery\, 5176 Walnut Rd\, Buckeye La
 ke\, OH 43008.
X-WR-RELCALID:8df5922ce8e8e0001f5bd7205c41380d
X-WR-TIMEZONE:America/New_York
BEGIN:VTIMEZONE
TZID:America/New_York
BEGIN:STANDARD
TZNAME:EST
DTSTART:20161106T020000
TZOFFSETFROM:-0400
TZOFFSETTO:-0500
RDATE:20171105T020000
END:STANDARD
BEGIN:DAYLIGHT
TZNAME:EDT
DTSTART:20170312T020000
TZOFFSETFROM:-0500
TZOFFSETTO:-0400
RDATE:20180311T020000
END:DAYLIGHT
END:VTIMEZONE
BEGIN:VEVENT
UID:84aac5dc-c616-41f6-8aae-d892d35762bf
DTSTAMP:20260421T211259Z
DESCRIPTION:Test your knowledge at our nature trivia night co-hosted with Y
 oung Leaders of Licking County and the Licking Park District\, 6 - 8p\, Th
 ursday\, April 20\, at Buckeye Lake Brewery\, 5176 Walnut Rd\, Buckeye Lak
 e\, OH 43008.
DTSTART;TZID=America/New_York:20170420T180000
DTEND;TZID=America/New_York:20170420T200000
LOCATION:Buckeye Lake Brewery\, 5176 Walnut Rd\, Buckeye Lake\, OH 43008
SUMMARY:Nature Trivia Night
END:VEVENT
END:VCALENDAR
