BEGIN:VCALENDAR
VERSION:2.0
PRODID:-//lickingswcd.com//NONSGML kigkonsult.se iCalcreator 2.30.10//
CALSCALE:GREGORIAN
METHOD:PUBLISH
UID:5aebbaae-5316-48f3-8702-f635adc19d63
X-WR-CALDESC:Licking Soil & Water will have a table at Earth and Energy Day
 \,  at John Geller Park\, 580 Cynthia Street\, Heath\, Ohio\, 43056.
X-WR-RELCALID:c22fc5ac916360e2de3c9836a06de409
X-WR-TIMEZONE:America/New_York
BEGIN:VTIMEZONE
TZID:America/New_York
BEGIN:STANDARD
TZNAME:EST
DTSTART:20161106T020000
TZOFFSETFROM:-0400
TZOFFSETTO:-0500
RDATE:20171105T020000
END:STANDARD
BEGIN:DAYLIGHT
TZNAME:EDT
DTSTART:20170312T020000
TZOFFSETFROM:-0500
TZOFFSETTO:-0400
RDATE:20180311T020000
END:DAYLIGHT
END:VTIMEZONE
BEGIN:VEVENT
UID:cfdee174-174e-4b9a-a8cc-e5da8c3470fe
DTSTAMP:20260421T211443Z
DESCRIPTION:Licking Soil & Water will have a table at Earth and Energy Day\
 ,  at John Geller Park\, 580 Cynthia Street\, Heath\, Ohio\, 43056.
DTSTART;TZID=America/New_York:20170423T120000
DTEND;TZID=America/New_York:20170423T160000
LOCATION:John Geller Park\, 580 Cynthia Street\, Heath\, Ohio\, 43056
SUMMARY:LCSWCD @ Earth and Energy Day
END:VEVENT
END:VCALENDAR
