BEGIN:VCALENDAR
VERSION:2.0
PRODID:-//lickingswcd.com//NONSGML kigkonsult.se iCalcreator 2.30.10//
CALSCALE:GREGORIAN
METHOD:PUBLISH
UID:cf2973ad-e6de-4963-a4bf-4e91f90a504b
X-WR-CALDESC:Learn about simple things you can do to create a great looking
  property that’s healthier for you\, your family\, your pets\, and the env
 ironment-and that saves you time and money. \n\nWe’re partnering with the 
 Licking Park District on the LANDSCAPE FOR LIFE™ series\, Tuesdays\, March
  28 thru April 25.  Click on the link below for more information and to re
 gister for the workshops.
X-WR-RELCALID:d4a44c86f018e8a2556875f83de522ac
X-WR-TIMEZONE:America/New_York
BEGIN:VTIMEZONE
TZID:America/New_York
BEGIN:STANDARD
TZNAME:EST
DTSTART:20161106T020000
TZOFFSETFROM:-0400
TZOFFSETTO:-0500
RDATE:20171105T020000
END:STANDARD
BEGIN:DAYLIGHT
TZNAME:EDT
DTSTART:20170312T020000
TZOFFSETFROM:-0500
TZOFFSETTO:-0400
RDATE:20180311T020000
END:DAYLIGHT
END:VTIMEZONE
BEGIN:VEVENT
UID:1bf0c5dc-5558-4cd1-b143-965cc7bc741f
DTSTAMP:20260421T211729Z
DESCRIPTION:Learn about simple things you can do to create a great looking 
 property that’s healthier for you\, your family\, your pets\, and the envi
 ronment-and that saves you time and money. \n\nWe’re partnering with the L
 icking Park District on the LANDSCAPE FOR LIFE™ series\, Tuesdays\, March 
 28 thru April 25.  Click on the link below for more information and to reg
 ister for the workshops.
DTSTART;TZID=America/New_York:20170425T180000
DTEND;TZID=America/New_York:20170425T193000
LOCATION:Licking Park District
SUMMARY:Landscape for Life Series
END:VEVENT
END:VCALENDAR
