BEGIN:VCALENDAR
VERSION:2.0
PRODID:-//lickingswcd.com//NONSGML kigkonsult.se iCalcreator 2.30.10//
CALSCALE:GREGORIAN
METHOD:PUBLISH
UID:3a4bff4e-57bb-4b84-86ee-c402cfc328e3
X-WR-CALDESC:The Natural Resources Conservation Service (NRCS) and Licking 
 Soil & Water invite residents and landowners to discuss Licking County's a
 gricultural and natural resources priorities\, 4-5p\, Thursday\, April 27 
 in the Large Conference Room at the Agricultural Services Center\, 771 E. 
 Main Street\, Newark\, Ohio 43055. \n\nThe purpose of this local working g
 roup is to provide guidance to NRCS and Licking Soil & Water on implementa
 tion and delivery of conservation programs.  For more information or to RS
 VP\, call 740-670-5330 or email adminassist@lickingswcd.com.
X-WR-RELCALID:4f94e9487b11723989e4d4b1b5d6e247
X-WR-TIMEZONE:America/New_York
BEGIN:VTIMEZONE
TZID:America/New_York
BEGIN:STANDARD
TZNAME:EST
DTSTART:20161106T020000
TZOFFSETFROM:-0400
TZOFFSETTO:-0500
RDATE:20171105T020000
END:STANDARD
BEGIN:DAYLIGHT
TZNAME:EDT
DTSTART:20170312T020000
TZOFFSETFROM:-0500
TZOFFSETTO:-0400
RDATE:20180311T020000
END:DAYLIGHT
END:VTIMEZONE
BEGIN:VEVENT
UID:9b5f78fd-a36d-4a7a-91dd-c6394a76c528
DTSTAMP:20260421T212039Z
DESCRIPTION:The Natural Resources Conservation Service (NRCS) and Licking S
 oil & Water invite residents and landowners to discuss Licking County's ag
 ricultural and natural resources priorities\, 4-5p\, Thursday\, April 27 i
 n the Large Conference Room at the Agricultural Services Center\, 771 E. M
 ain Street\, Newark\, Ohio 43055. \n\nThe purpose of this local working gr
 oup is to provide guidance to NRCS and Licking Soil & Water on implementat
 ion and delivery of conservation programs.  For more information or to RSV
 P\, call 740-670-5330 or email adminassist@lickingswcd.com.
DTSTART;TZID=America/New_York:20170427T160000
DTEND;TZID=America/New_York:20170427T170000
LOCATION:
SUMMARY:Local Work Group Meeting
END:VEVENT
END:VCALENDAR
