BEGIN:VCALENDAR
VERSION:2.0
PRODID:-//lickingswcd.com//NONSGML kigkonsult.se iCalcreator 2.30.10//
CALSCALE:GREGORIAN
METHOD:PUBLISH
UID:aebd32c9-ba63-4c45-8844-9858051cc283
X-WR-CALDESC:Stop by our table at the Dawes Arbor Day Festival.
X-WR-RELCALID:2d2627e01406139b4e2d1d175d245772
X-WR-TIMEZONE:America/New_York
BEGIN:VTIMEZONE
TZID:America/New_York
BEGIN:STANDARD
TZNAME:EST
DTSTART:20161106T020000
TZOFFSETFROM:-0400
TZOFFSETTO:-0500
RDATE:20171105T020000
END:STANDARD
BEGIN:DAYLIGHT
TZNAME:EDT
DTSTART:20170312T020000
TZOFFSETFROM:-0500
TZOFFSETTO:-0400
RDATE:20180311T020000
END:DAYLIGHT
END:VTIMEZONE
BEGIN:VEVENT
UID:1d3b187d-7385-4af7-ab41-ad6e736e86ec
DTSTAMP:20260421T212855Z
DESCRIPTION:Stop by our table at the Dawes Arbor Day Festival.
DTSTART;TZID=America/New_York:20170429T100000
DTEND;TZID=America/New_York:20170429T150000
LOCATION:The Dawes Arboretum\, 7770 Jacksontown Rd. SE Newark\, Ohio 43056
SUMMARY:LCSWCD @ Dawes Arbor Day Festival
END:VEVENT
END:VCALENDAR
