BEGIN:VCALENDAR
VERSION:2.0
PRODID:-//lickingswcd.com//NONSGML kigkonsult.se iCalcreator 2.30.10//
CALSCALE:GREGORIAN
METHOD:PUBLISH
UID:7aafe431-c41e-4c02-b293-3bb2c555f2b9
X-WR-CALDESC:Licking Soil & Water and partner organizations will join thous
 ands of groups nationwide in an effort to encourage millions of Americans 
 to turn off televisions\, smartphones\, tablets\, and gaming consoles for 
 seven days and turn on to the world around them.\n\n
X-WR-RELCALID:c49a2fc60f9356732c44b330055a7eb5
X-WR-TIMEZONE:America/New_York
BEGIN:VTIMEZONE
TZID:America/New_York
BEGIN:STANDARD
TZNAME:EST
DTSTART:20161106T020000
TZOFFSETFROM:-0400
TZOFFSETTO:-0500
RDATE:20171105T020000
END:STANDARD
BEGIN:DAYLIGHT
TZNAME:EDT
DTSTART:20170312T020000
TZOFFSETFROM:-0500
TZOFFSETTO:-0400
RDATE:20180311T020000
END:DAYLIGHT
END:VTIMEZONE
BEGIN:VEVENT
UID:285910eb-6393-430f-ac26-83cebed1417d
DTSTAMP:20260421T211546Z
DESCRIPTION:Licking Soil & Water and partner organizations will join thousa
 nds of groups nationwide in an effort to encourage millions of Americans t
 o turn off televisions\, smartphones\, tablets\, and gaming consoles for s
 even days and turn on to the world around them.\n\n
DTSTART;TZID=America/New_York:20170430T120000
DTEND;TZID=America/New_York:20170430T160000
LOCATION:
SUMMARY:LCSWCD @ Turn Your Screen Off Week Kickoff
END:VEVENT
END:VCALENDAR
