BEGIN:VCALENDAR
VERSION:2.0
PRODID:-//lickingswcd.com//NONSGML kigkonsult.se iCalcreator 2.30.10//
CALSCALE:GREGORIAN
METHOD:PUBLISH
UID:581c53d4-dc09-46f0-8009-83a4edc2110d
X-WR-CALDESC:Learn how to monitor water quality with the STREAM TEAM\, 6-8p
 \, Tuesday\, May 9 at  Taft Reserve\, 10250 Flint Ridge Road\, Newark\, Oh
 io 43056.\n\nAfter training\, adopt a local stream of your choice.  Regist
 ration requested\, 740-670-5330\, adminassist@lickingswcd.com.
X-WR-RELCALID:50cf74756cedb97d0da84e8ea8fc45f3
X-WR-TIMEZONE:America/New_York
BEGIN:VTIMEZONE
TZID:America/New_York
BEGIN:STANDARD
TZNAME:EST
DTSTART:20161106T020000
TZOFFSETFROM:-0400
TZOFFSETTO:-0500
RDATE:20171105T020000
RDATE:20181104T020000
END:STANDARD
BEGIN:DAYLIGHT
TZNAME:EDT
DTSTART:20170312T020000
TZOFFSETFROM:-0500
TZOFFSETTO:-0400
RDATE:20180311T020000
END:DAYLIGHT
END:VTIMEZONE
BEGIN:VEVENT
UID:0b3a0dcd-44b2-43e5-84c7-0c8e92bef260
DTSTAMP:20260421T192734Z
DESCRIPTION:Learn how to monitor water quality with the STREAM TEAM\, 6-8p\
 , Tuesday\, May 9 at  Taft Reserve\, 10250 Flint Ridge Road\, Newark\, Ohi
 o 43056.\n\nAfter training\, adopt a local stream of your choice.  Registr
 ation requested\, 740-670-5330\, adminassist@lickingswcd.com.
DTSTART;TZID=America/New_York:20170509T180000
DTEND;TZID=America/New_York:20170509T200000
LOCATION:Taft Reserve\, 10250 Flint Ridge Road\, Newark\, Ohio 43056
SUMMARY:Stream Team Training
END:VEVENT
END:VCALENDAR
