BEGIN:VCALENDAR
VERSION:2.0
PRODID:-//lickingswcd.com//NONSGML kigkonsult.se iCalcreator 2.30.10//
CALSCALE:GREGORIAN
METHOD:PUBLISH
UID:77d199e8-7e5f-4288-9340-e7b990036a2d
X-WR-CALDESC:Licking Soil & Water will participate in the 2017 River Round 
 Up planning meeting\, 1–2:30p\, Wednesday\, May 10\, at the Carriage House
  at Bryn Du Mansion\, 537 Jones Road NE\, Granville\, Ohio 43023.
X-WR-RELCALID:cf8522e213613ac041e5a406ce273c82
X-WR-TIMEZONE:America/New_York
BEGIN:VTIMEZONE
TZID:America/New_York
BEGIN:STANDARD
TZNAME:EST
DTSTART:20161106T020000
TZOFFSETFROM:-0400
TZOFFSETTO:-0500
RDATE:20171105T020000
RDATE:20181104T020000
END:STANDARD
BEGIN:DAYLIGHT
TZNAME:EDT
DTSTART:20170312T020000
TZOFFSETFROM:-0500
TZOFFSETTO:-0400
RDATE:20180311T020000
END:DAYLIGHT
END:VTIMEZONE
BEGIN:VEVENT
UID:32c5e2d8-dcf4-4f3a-8c8c-68e2f5493358
DTSTAMP:20260421T193406Z
DESCRIPTION:Licking Soil & Water will participate in the 2017 River Round U
 p planning meeting\, 1–2:30p\, Wednesday\, May 10\, at the Carriage House 
 at Bryn Du Mansion\, 537 Jones Road NE\, Granville\, Ohio 43023.
DTSTART;TZID=America/New_York:20170510T130000
DTEND;TZID=America/New_York:20170510T143000
LOCATION:Carriage House at Bryn Du Mansion\, 537 Jones Road NE\, Granville\
 , Ohio 43023
SUMMARY:LCSWCD @ River Round Up Meeting
END:VEVENT
END:VCALENDAR
