BEGIN:VCALENDAR
VERSION:2.0
PRODID:-//lickingswcd.com//NONSGML kigkonsult.se iCalcreator 2.30.10//
CALSCALE:GREGORIAN
METHOD:PUBLISH
UID:c451eb99-a5be-4547-9b7c-5f30a03360d7
X-WR-CALDESC:
X-WR-RELCALID:cf65201fd564e1c0b5483daa8f41d892
X-WR-TIMEZONE:America/New_York
BEGIN:VTIMEZONE
TZID:America/New_York
BEGIN:STANDARD
TZNAME:EST
DTSTART:20171105T020000
TZOFFSETFROM:-0400
TZOFFSETTO:-0500
RDATE:20181104T020000
END:STANDARD
BEGIN:DAYLIGHT
TZNAME:EDT
DTSTART:20170312T020000
TZOFFSETFROM:-0500
TZOFFSETTO:-0400
RDATE:20180311T020000
RDATE:20190310T020000
END:DAYLIGHT
END:VTIMEZONE
BEGIN:VEVENT
UID:e36ebebf-10ff-4cac-a14b-47952ad4228e
DTSTAMP:20260421T193203Z
DESCRIPTION:
DTSTART;TZID=America/New_York:20171108T173000
DTEND;TZID=America/New_York:20171108T183000
LOCATION:The Grove by the River 40 Hollander Street\, Newark\, Ohio
SUMMARY:Volunteers & Sponsors Appreciation Reception
END:VEVENT
END:VCALENDAR
