BEGIN:VCALENDAR
VERSION:2.0
PRODID:-//lickingswcd.com//NONSGML kigkonsult.se iCalcreator 2.30.10//
CALSCALE:GREGORIAN
METHOD:PUBLISH
UID:7fdfeab5-b5d3-479e-a4e2-b6cbd2d6fd49
X-WR-CALDESC:
X-WR-RELCALID:a1f97b1e5a7a1cfbada002005a0ccaae
X-WR-TIMEZONE:America/New_York
BEGIN:VTIMEZONE
TZID:America/New_York
BEGIN:STANDARD
TZNAME:EST
DTSTART:20171105T020000
TZOFFSETFROM:-0400
TZOFFSETTO:-0500
RDATE:20181104T020000
END:STANDARD
BEGIN:DAYLIGHT
TZNAME:EDT
DTSTART:20180311T020000
TZOFFSETFROM:-0500
TZOFFSETTO:-0400
RDATE:20190310T020000
END:DAYLIGHT
END:VTIMEZONE
BEGIN:VEVENT
UID:5dd79014-51c0-45f3-afd9-0c7d2e60a319
DTSTAMP:20260422T041438Z
DESCRIPTION:
DTSTART;TZID=America/New_York:20180412T080000
DTEND;TZID=America/New_York:20180412T190000
LOCATION:
SUMMARY:Seedling Tree Sale Pickup Day for Licking County
END:VEVENT
END:VCALENDAR
