BEGIN:VCALENDAR
VERSION:2.0
PRODID:-//lickingswcd.com//NONSGML kigkonsult.se iCalcreator 2.30.10//
CALSCALE:GREGORIAN
METHOD:PUBLISH
UID:a364f859-afa5-4f4e-adca-83ed9bef20b4
X-WR-CALDESC:Licking Soil & Water and Partners will co-host fun and educati
 onal programs
X-WR-RELCALID:eec067f5709f8fbbd4af5cb9bd8fa197
X-WR-TIMEZONE:America/New_York
BEGIN:VTIMEZONE
TZID:America/New_York
BEGIN:STANDARD
TZNAME:EST
DTSTART:20171105T020000
TZOFFSETFROM:-0400
TZOFFSETTO:-0500
RDATE:20181104T020000
RDATE:20191103T020000
END:STANDARD
BEGIN:DAYLIGHT
TZNAME:EDT
DTSTART:20180311T020000
TZOFFSETFROM:-0500
TZOFFSETTO:-0400
RDATE:20190310T020000
END:DAYLIGHT
END:VTIMEZONE
BEGIN:VEVENT
UID:e905eee3-dccb-4bcb-a3b0-9b2c3b3eae12
DTSTAMP:20260422T114158Z
DESCRIPTION:Licking Soil & Water and Partners will co-host fun and educatio
 nal programs
DTSTART;TZID=America/New_York:20180804T000000
DTEND;TZID=America/New_York:20180812T235900
LOCATION:Hartford Fair Natural Resources Area.
SUMMARY:LCSWCD @ Hartford Fair
END:VEVENT
END:VCALENDAR
