BEGIN:VCALENDAR
VERSION:2.0
PRODID:-//lickingswcd.com//NONSGML kigkonsult.se iCalcreator 2.30.10//
CALSCALE:GREGORIAN
METHOD:PUBLISH
UID:eb7f7f01-f21b-4a49-bca8-b3f96b6d3122
X-WR-CALDESC:The Licking County SWCD Board holds its regular monthly meetin
 g at 4:30 p.m. on the second Wednesday of each month.  The public is welco
 me to attend.  Please call\, 740-670-5330\, to confirm as the date\, time 
 or location may change.\n\n
X-WR-RELCALID:795b1921857f4a05326673e6105673e7
X-WR-TIMEZONE:America/New_York
BEGIN:VTIMEZONE
TZID:America/New_York
BEGIN:STANDARD
TZNAME:EST
DTSTART:20171105T020000
TZOFFSETFROM:-0400
TZOFFSETTO:-0500
RDATE:20181104T020000
RDATE:20191103T020000
END:STANDARD
BEGIN:DAYLIGHT
TZNAME:EDT
DTSTART:20180311T020000
TZOFFSETFROM:-0500
TZOFFSETTO:-0400
RDATE:20190310T020000
RDATE:20200308T020000
END:DAYLIGHT
END:VTIMEZONE
BEGIN:VEVENT
UID:61383f3c-9cc7-4d01-bfc3-abc8640e8c5b
DTSTAMP:20260422T122905Z
DESCRIPTION:The Licking County SWCD Board holds its regular monthly meeting
  at 4:30 p.m. on the second Wednesday of each month.  The public is welcom
 e to attend.  Please call\, 740-670-5330\, to confirm as the date\, time o
 r location may change.\n\n
DTSTART;TZID=America/New_York:20180919T163000
DTEND;TZID=America/New_York:20180919T173000
LOCATION:Ag. Services Center\, 771 E. Main Street Newark Ohio 43055.
SUMMARY:LCSWCD Board Meeting
END:VEVENT
END:VCALENDAR
