BEGIN:VCALENDAR
VERSION:2.0
PRODID:-//lickingswcd.com//NONSGML kigkonsult.se iCalcreator 2.30.10//
CALSCALE:GREGORIAN
METHOD:PUBLISH
UID:55dc558a-cb83-4f17-a292-8e909771d963
X-WR-CALDESC:Volunteer & Sponsor Appreciation Reception 5:30-6:30 pm\nWe ar
 e celebrating you – our wonderful volunteers and generous sponsors!    \n
 \nWith your time and support\, Soil & Water gave hundreds of seedling tree
 s to students\, helped clean thousands of pounds of trash from streams and
  rivers\, trained volunteers to monitor our waterways\, as well as educate
 d the public at the Hartford Fair\, festivals and community events.   \n\n
 Enjoy complimentary appetizers and cash bar.  Thank you gifts for all thos
 e who spent time volunteering throughout the year.  \n\n\nBoard of Supervi
 sors Election 5:30-6:30 pm\nSoil & Water has a five-member Board of Superv
 isors elected by landowners and residents of Licking County.   As unpaid P
 ublic Officials\, the Board members are responsible for conducting busines
 s within the scope of the laws and administrative rules.  Board members al
 so help guide Soil & Water’s mission with professionalism\, efficiency and
  effectiveness.  \nTwo Supervisor will be elected to a 3-year term commenc
 ing on January 1\, 2019.  Candidates are Seth Dobbelaer\, Dee Hammel and R
 onald E. Thompson.  \nThe two candidates with the most votes will be annou
 nced at the end of Banquet on November 7\, 2018. Candidate bios and voting
  information available at www.lickingswcd.com.  \n\nDinner & Awards Celebr
 ation 6:30-8:00 pm\nTickets $25 per person\nThe Soil & Water office has pr
 omoted conservation of natural resources through local leadership\, educat
 ion and technical assistance since 1944.   \nAwards will be presented to t
 hose who have gone above and beyond to help the land as Cooperator\, Volun
 teer and Educator of the Year will be announced.  Local FFA Soil Judging c
 ompetitors will be recognized as well.  \nBuffet dinner includes carved ro
 ast beef\, tender chicken breasts\, herb roasted potatoes\, green beans\, 
 salad and rolls.  Apple and pecan pies will be served for dessert.
X-WR-RELCALID:703e519c7117c7b56472b89de5c151dd
X-WR-TIMEZONE:America/New_York
BEGIN:VTIMEZONE
TZID:America/New_York
BEGIN:STANDARD
TZNAME:EST
DTSTART:20181104T020000
TZOFFSETFROM:-0400
TZOFFSETTO:-0500
RDATE:20191103T020000
END:STANDARD
BEGIN:DAYLIGHT
TZNAME:EDT
DTSTART:20180311T020000
TZOFFSETFROM:-0500
TZOFFSETTO:-0400
RDATE:20190310T020000
RDATE:20200308T020000
END:DAYLIGHT
END:VTIMEZONE
BEGIN:VEVENT
UID:88dc4435-b6ee-4b84-a3a9-218b901ccd0e
DTSTAMP:20260422T162235Z
DESCRIPTION:Volunteer & Sponsor Appreciation Reception 5:30-6:30 pm\nWe are
  celebrating you – our wonderful volunteers and generous sponsors!    \n\n
 With your time and support\, Soil & Water gave hundreds of seedling trees 
 to students\, helped clean thousands of pounds of trash from streams and r
 ivers\, trained volunteers to monitor our waterways\, as well as educated 
 the public at the Hartford Fair\, festivals and community events.   \n\nEn
 joy complimentary appetizers and cash bar.  Thank you gifts for all those 
 who spent time volunteering throughout the year.  \n\n\nBoard of Superviso
 rs Election 5:30-6:30 pm\nSoil & Water has a five-member Board of Supervis
 ors elected by landowners and residents of Licking County.   As unpaid Pub
 lic Officials\, the Board members are responsible for conducting business 
 within the scope of the laws and administrative rules.  Board members also
  help guide Soil & Water’s mission with professionalism\, efficiency and e
 ffectiveness.  \nTwo Supervisor will be elected to a 3-year term commencin
 g on January 1\, 2019.  Candidates are Seth Dobbelaer\, Dee Hammel and Ron
 ald E. Thompson.  \nThe two candidates with the most votes will be announc
 ed at the end of Banquet on November 7\, 2018. Candidate bios and voting i
 nformation available at www.lickingswcd.com.  \n\nDinner & Awards Celebrat
 ion 6:30-8:00 pm\nTickets $25 per person\nThe Soil & Water office has prom
 oted conservation of natural resources through local leadership\, educatio
 n and technical assistance since 1944.   \nAwards will be presented to tho
 se who have gone above and beyond to help the land as Cooperator\, Volunte
 er and Educator of the Year will be announced.  Local FFA Soil Judging com
 petitors will be recognized as well.  \nBuffet dinner includes carved roas
 t beef\, tender chicken breasts\, herb roasted potatoes\, green beans\, sa
 lad and rolls.  Apple and pecan pies will be served for dessert.
DTSTART;TZID=America/New_York:20181107T173000
DTEND;TZID=America/New_York:20181107T203000
LOCATION:The Grove by the River\, 840 Hollander Street\, Newark\, Ohio 4305
 5
SUMMARY:74th Community Conservation Celebration Banquet
END:VEVENT
END:VCALENDAR
