BEGIN:VCALENDAR
VERSION:2.0
PRODID:-//lickingswcd.com//NONSGML kigkonsult.se iCalcreator 2.30.10//
CALSCALE:GREGORIAN
METHOD:PUBLISH
UID:9ae80081-f05b-4a1d-998f-b467a3398d2b
X-WR-CALDESC:South Licking Watershed Conservancy District meets on the seco
 nd Monday of each month\, 6 pm\, at the Village of Hebron Municipal Comple
 x\, 934 W. Main Street\, Hebron\, OH 43025.\n
X-WR-RELCALID:106442e9d2adfdd1c7917ef96113d11a
X-WR-TIMEZONE:America/New_York
BEGIN:VTIMEZONE
TZID:America/New_York
BEGIN:STANDARD
TZNAME:EST
DTSTART:20181104T020000
TZOFFSETFROM:-0400
TZOFFSETTO:-0500
RDATE:20191103T020000
END:STANDARD
BEGIN:DAYLIGHT
TZNAME:EDT
DTSTART:20180311T020000
TZOFFSETFROM:-0500
TZOFFSETTO:-0400
RDATE:20190310T020000
RDATE:20200308T020000
END:DAYLIGHT
END:VTIMEZONE
BEGIN:VEVENT
UID:858f936b-67c3-4c50-b6b4-73d50d24576d
DTSTAMP:20260422T161656Z
DESCRIPTION:South Licking Watershed Conservancy District meets on the secon
 d Monday of each month\, 6 pm\, at the Village of Hebron Municipal Complex
 \, 934 W. Main Street\, Hebron\, OH 43025.\n
DTSTART;TZID=America/New_York:20181112T180000
DTEND;TZID=America/New_York:20181112T190000
LOCATION:Village of Hebron Municipal Complex\, 934 W. Main Street\, Hebron\
 , OH 43025.
SUMMARY:South Licking Watershed Conservancy District Meeting
END:VEVENT
END:VCALENDAR
