BEGIN:VCALENDAR
VERSION:2.0
PRODID:-//lickingswcd.com//NONSGML kigkonsult.se iCalcreator 2.30.10//
CALSCALE:GREGORIAN
METHOD:PUBLISH
UID:8d2cdc7a-7fe0-4295-9922-1a826fa19f11
X-WR-CALDESC:The Licking County SWCD Board holds its regular monthly meetin
 g at 4:30 p.m. on the second Wednesday of each month.  The public is welco
 me to attend.  Please call\, 740-670-5330\, to confirm as the date\, time 
 or location may change.
X-WR-RELCALID:657ac5a857a3873b0ecfb5010e7ad10f
X-WR-TIMEZONE:America/New_York
BEGIN:VTIMEZONE
TZID:America/New_York
BEGIN:STANDARD
TZNAME:EST
DTSTART:20181104T020000
TZOFFSETFROM:-0400
TZOFFSETTO:-0500
RDATE:20191103T020000
END:STANDARD
BEGIN:DAYLIGHT
TZNAME:EDT
DTSTART:20180311T020000
TZOFFSETFROM:-0500
TZOFFSETTO:-0400
RDATE:20190310T020000
RDATE:20200308T020000
END:DAYLIGHT
END:VTIMEZONE
BEGIN:VEVENT
UID:e92f0210-5bd4-4818-b0d8-aff2d2ab120a
DTSTAMP:20260422T161317Z
DESCRIPTION:The Licking County SWCD Board holds its regular monthly meeting
  at 4:30 p.m. on the second Wednesday of each month.  The public is welcom
 e to attend.  Please call\, 740-670-5330\, to confirm as the date\, time o
 r location may change.
DTSTART;TZID=America/New_York:20181114T163000
DTEND;TZID=America/New_York:20181114T173000
LOCATION:Ag. Services Center\, 771 E. Main Street Newark Ohio 43055
SUMMARY:LCSWCD Board Meeting
END:VEVENT
END:VCALENDAR
