BEGIN:VCALENDAR
VERSION:2.0
PRODID:-//lickingswcd.com//NONSGML kigkonsult.se iCalcreator 2.30.10//
CALSCALE:GREGORIAN
METHOD:PUBLISH
UID:1e1c6b08-81b1-438e-8a3e-cb68316812c3
X-WR-CALDESC:
X-WR-RELCALID:074fe80361f5ca3087b5dad34509fb43
X-WR-TIMEZONE:America/New_York
BEGIN:VTIMEZONE
TZID:America/New_York
BEGIN:STANDARD
TZNAME:EST
DTSTART:20181104T020000
TZOFFSETFROM:-0400
TZOFFSETTO:-0500
RDATE:20191103T020000
END:STANDARD
BEGIN:DAYLIGHT
TZNAME:EDT
DTSTART:20180311T020000
TZOFFSETFROM:-0500
TZOFFSETTO:-0400
RDATE:20190310T020000
RDATE:20200308T020000
END:DAYLIGHT
END:VTIMEZONE
BEGIN:VEVENT
UID:57c0ed03-bf35-4075-b4bc-e5acc9e1893f
DTSTAMP:20260422T161727Z
DESCRIPTION:
DTSTART;TZID=America/New_York:20181119T000000
DTEND;TZID=America/New_York:20181119T235900
LOCATION:
SUMMARY:EQUIP deadline
END:VEVENT
END:VCALENDAR
