BEGIN:VCALENDAR
VERSION:2.0
PRODID:-//lickingswcd.com//NONSGML kigkonsult.se iCalcreator 2.30.10//
CALSCALE:GREGORIAN
METHOD:PUBLISH
UID:f9427f90-a53a-4fd5-b989-f6e3f0271ff2
X-WR-CALDESC:The LCSWCD will be closed to observe Thanksgiving Day.
X-WR-RELCALID:a8ee39c556fb818bee453a307c08c31d
X-WR-TIMEZONE:America/New_York
BEGIN:VTIMEZONE
TZID:America/New_York
BEGIN:STANDARD
TZNAME:EST
DTSTART:20181104T020000
TZOFFSETFROM:-0400
TZOFFSETTO:-0500
RDATE:20191103T020000
END:STANDARD
BEGIN:DAYLIGHT
TZNAME:EDT
DTSTART:20180311T020000
TZOFFSETFROM:-0500
TZOFFSETTO:-0400
RDATE:20190310T020000
RDATE:20200308T020000
END:DAYLIGHT
END:VTIMEZONE
BEGIN:VEVENT
UID:30e2d378-a580-4f26-b524-776239cc47c1
DTSTAMP:20260422T162107Z
DESCRIPTION:The LCSWCD will be closed to observe Thanksgiving Day.
DTSTART;TZID=America/New_York:20181122T000000
DTEND;TZID=America/New_York:20181122T235900
LOCATION:
SUMMARY:Thanksgiving Day observed - Office closed
END:VEVENT
END:VCALENDAR
