BEGIN:VCALENDAR
VERSION:2.0
PRODID:-//lickingswcd.com//NONSGML kigkonsult.se iCalcreator 2.30.10//
CALSCALE:GREGORIAN
METHOD:PUBLISH
UID:b5737bc7-0d3c-4425-bf82-9e8908e8c27d
X-WR-CALDESC:LCSWCD will be closed to observe Christmas Day
X-WR-RELCALID:2c90b2ed34448c30d903fbc285f986a8
X-WR-TIMEZONE:America/New_York
BEGIN:VTIMEZONE
TZID:America/New_York
BEGIN:STANDARD
TZNAME:EST
DTSTART:20181104T020000
TZOFFSETFROM:-0400
TZOFFSETTO:-0500
RDATE:20191103T020000
END:STANDARD
BEGIN:DAYLIGHT
TZNAME:EDT
DTSTART:20180311T020000
TZOFFSETFROM:-0500
TZOFFSETTO:-0400
RDATE:20190310T020000
RDATE:20200308T020000
END:DAYLIGHT
END:VTIMEZONE
BEGIN:VEVENT
UID:902a8cd5-9f5e-4536-9f87-47ba4af970fb
DTSTAMP:20260422T180139Z
DESCRIPTION:LCSWCD will be closed to observe Christmas Day
DTSTART;TZID=America/New_York:20181225T000000
DTEND;TZID=America/New_York:20181225T235900
LOCATION:
SUMMARY:Christmas Day - observed - office closed
END:VEVENT
END:VCALENDAR
