BEGIN:VCALENDAR
VERSION:2.0
PRODID:-//lickingswcd.com//NONSGML kigkonsult.se iCalcreator 2.30.10//
CALSCALE:GREGORIAN
METHOD:PUBLISH
UID:b555def9-a3b9-4ba0-bf54-95791d0926bd
X-WR-CALDESC:The Commission manages the record retention schedule based on 
 the type of record and length of time the record(s) are needed to document
  their functions.  The schedule is then reviewed and approved by the Ohio 
 Historical Society\, and the Auditor of the State of Ohio\, in accordance 
 with the Public Records Act of 1972 as revised.\n\nWhile in the Soil & Wat
 er’s possession\, all records other than exempted records are available fo
 r inspection by the public.   \n\n
X-WR-RELCALID:b225728eb48d0054c8594a844e005ca7
X-WR-TIMEZONE:America/New_York
BEGIN:VTIMEZONE
TZID:America/New_York
BEGIN:STANDARD
TZNAME:EST
DTSTART:20181104T020000
TZOFFSETFROM:-0400
TZOFFSETTO:-0500
RDATE:20191103T020000
END:STANDARD
BEGIN:DAYLIGHT
TZNAME:EDT
DTSTART:20180311T020000
TZOFFSETFROM:-0500
TZOFFSETTO:-0400
RDATE:20190310T020000
RDATE:20200308T020000
END:DAYLIGHT
END:VTIMEZONE
BEGIN:VEVENT
UID:c1d096b3-e40b-4fc5-b920-ccaf49f49414
DTSTAMP:20260422T175115Z
DESCRIPTION:The Commission manages the record retention schedule based on t
 he type of record and length of time the record(s) are needed to document 
 their functions.  The schedule is then reviewed and approved by the Ohio H
 istorical Society\, and the Auditor of the State of Ohio\, in accordance w
 ith the Public Records Act of 1972 as revised.\n\nWhile in the Soil & Wate
 r’s possession\, all records other than exempted records are available for
  inspection by the public.   \n\n
DTSTART;TZID=America/New_York:20181227T110000
DTEND;TZID=America/New_York:20181227T120000
LOCATION:Ag Services Center\, 771 East Main Street\, Newark\, OH  43055
SUMMARY:Soil & Water Records Retention Commission
END:VEVENT
END:VCALENDAR
