BEGIN:VCALENDAR
VERSION:2.0
PRODID:-//lickingswcd.com//NONSGML kigkonsult.se iCalcreator 2.30.10//
CALSCALE:GREGORIAN
METHOD:PUBLISH
UID:af561ab1-ece8-4c8e-928d-f614958dad7c
X-WR-CALDESC:The Licking County Agricultural Hall of Fame is established to
  recognize those individuals who have demonstrated a lifelong exemplary se
 rvice to their community and the industry of agriculture.
X-WR-RELCALID:d942bb5f2a8942a10547c65992400ae0
X-WR-TIMEZONE:America/New_York
BEGIN:VTIMEZONE
TZID:America/New_York
BEGIN:STANDARD
TZNAME:EST
DTSTART:20181104T020000
TZOFFSETFROM:-0400
TZOFFSETTO:-0500
RDATE:20191103T020000
END:STANDARD
BEGIN:DAYLIGHT
TZNAME:EDT
DTSTART:20180311T020000
TZOFFSETFROM:-0500
TZOFFSETTO:-0400
RDATE:20190310T020000
RDATE:20200308T020000
END:DAYLIGHT
END:VTIMEZONE
BEGIN:VEVENT
UID:28d08d15-ec67-4dfd-8fdf-5238bfa6c601
DTSTAMP:20260422T174044Z
DESCRIPTION:The Licking County Agricultural Hall of Fame is established to 
 recognize those individuals who have demonstrated a lifelong exemplary ser
 vice to their community and the industry of agriculture.
DTSTART;TZID=America/New_York:20181231T000000
DTEND;TZID=America/New_York:20181231T235900
LOCATION:
SUMMARY:Ag Hall of Fame Application Deadline
END:VEVENT
END:VCALENDAR
