BEGIN:VCALENDAR
VERSION:2.0
PRODID:-//lickingswcd.com//NONSGML kigkonsult.se iCalcreator 2.30.10//
CALSCALE:GREGORIAN
METHOD:PUBLISH
UID:b7969dbe-93cd-4fd1-b40f-3011e461e50e
X-WR-CALDESC:The South Licking Watershed Conservancy District includes port
 ions of Licking\, Fairfield and Perry counties. Conservancy districts are 
 charged with reducing flooding\; management of streams wetlands and relate
 d conservation\; and water quality and supply issues.
X-WR-RELCALID:6b14434bfef5d3e3e8899eddd5cb2a2e
X-WR-TIMEZONE:America/New_York
BEGIN:VTIMEZONE
TZID:America/New_York
BEGIN:STANDARD
TZNAME:EST
DTSTART:20181104T020000
TZOFFSETFROM:-0400
TZOFFSETTO:-0500
RDATE:20191103T020000
END:STANDARD
BEGIN:DAYLIGHT
TZNAME:EDT
DTSTART:20180311T020000
TZOFFSETFROM:-0500
TZOFFSETTO:-0400
RDATE:20190310T020000
RDATE:20200308T020000
END:DAYLIGHT
END:VTIMEZONE
BEGIN:VEVENT
UID:816c3f20-453d-4f94-b2a2-164a0d29c655
DTSTAMP:20260422T193536Z
DESCRIPTION:The South Licking Watershed Conservancy District includes porti
 ons of Licking\, Fairfield and Perry counties. Conservancy districts are c
 harged with reducing flooding\; management of streams wetlands and related
  conservation\; and water quality and supply issues.
DTSTART;TZID=America/New_York:20190114T180000
DTEND;TZID=America/New_York:20190114T190000
LOCATION:
SUMMARY:South Licking Watershed Conservancy District Meeting
END:VEVENT
END:VCALENDAR
