BEGIN:VCALENDAR
VERSION:2.0
PRODID:-//lickingswcd.com//NONSGML kigkonsult.se iCalcreator 2.30.10//
CALSCALE:GREGORIAN
METHOD:PUBLISH
UID:ea908895-5996-4837-9101-b6db6d302a23
X-WR-CALDESC:
X-WR-RELCALID:e4a01a0cc0e61904fce0121b247484a1
X-WR-TIMEZONE:America/New_York
BEGIN:VTIMEZONE
TZID:America/New_York
BEGIN:STANDARD
TZNAME:EST
DTSTART:20181104T020000
TZOFFSETFROM:-0400
TZOFFSETTO:-0500
RDATE:20191103T020000
END:STANDARD
BEGIN:DAYLIGHT
TZNAME:EDT
DTSTART:20180311T020000
TZOFFSETFROM:-0500
TZOFFSETTO:-0400
RDATE:20190310T020000
RDATE:20200308T020000
END:DAYLIGHT
END:VTIMEZONE
BEGIN:VEVENT
UID:ed8cbb22-694d-4034-b090-725b457730c3
DTSTAMP:20260422T192957Z
DESCRIPTION:
DTSTART;TZID=America/New_York:20190121T000000
DTEND;TZID=America/New_York:20190121T235900
LOCATION:
SUMMARY:Martin Luther King Day- Office closed
END:VEVENT
END:VCALENDAR
