BEGIN:VCALENDAR
VERSION:2.0
PRODID:-//lickingswcd.com//NONSGML kigkonsult.se iCalcreator 2.30.10//
CALSCALE:GREGORIAN
METHOD:PUBLISH
UID:214b11f9-8680-4a74-b526-a8839f96fe85
X-WR-CALDESC:The Licking County Soil & Water Conservation District was char
 tered on February 29\, 1944.   We look forward to celebrating 75 years of 
 service to Licking County Landowners.  Watch for additional information th
 roughout the year
X-WR-RELCALID:6858025ab9e7222d6eebbdd4b73dd5e9
X-WR-TIMEZONE:America/New_York
BEGIN:VTIMEZONE
TZID:America/New_York
BEGIN:STANDARD
TZNAME:EST
DTSTART:20181104T020000
TZOFFSETFROM:-0400
TZOFFSETTO:-0500
RDATE:20191103T020000
END:STANDARD
BEGIN:DAYLIGHT
TZNAME:EDT
DTSTART:20180311T020000
TZOFFSETFROM:-0500
TZOFFSETTO:-0400
RDATE:20190310T020000
RDATE:20200308T020000
END:DAYLIGHT
END:VTIMEZONE
BEGIN:VEVENT
UID:30b6436b-5983-4a2d-bd2f-d1aa34b707be
DTSTAMP:20260422T213838Z
DESCRIPTION:The Licking County Soil & Water Conservation District was chart
 ered on February 29\, 1944.   We look forward to celebrating 75 years of s
 ervice to Licking County Landowners.  Watch for additional information thr
 oughout the year
DTSTART;TZID=America/New_York:20190205T000000
DTEND;TZID=America/New_York:20190205T235900
LOCATION:
SUMMARY:Celebrating 75 years of Service!
END:VEVENT
END:VCALENDAR
