BEGIN:VCALENDAR
VERSION:2.0
PRODID:-//lickingswcd.com//NONSGML kigkonsult.se iCalcreator 2.30.10//
CALSCALE:GREGORIAN
METHOD:PUBLISH
UID:282209f5-03c4-409c-9023-225f1bfdc4ef
X-WR-CALDESC:The Works will be open Saturday & Sunday February 16 & 17 from
  Noon-4PM to host STEMfest! Free and open to the public\, STEMfest! featur
 es an Industry & Education Showcase\, where youth can engage in hands-on e
 xploration of the career and education opportunities in our community. Exp
 lore the museum at no charge and visit the booths of community organizatio
 ns where guests are shown how science\, technology\, engineering\, and mat
 h are applied within their industry through fun hands-on activities. The e
 vent engages middle school and high school youth in design-based problem s
 olving challenges with a variety of disciplines that relate to what scient
 ists and engineers encounter every day in their careers. During STEMfest!\
 , teams of students from middle and high schools across central Ohio prese
 nt their findings to the STEMfest! Problem Solving Challenge they chose to
  explore.
X-WR-RELCALID:147bd7f0b685ca98706efa769bf0c420
X-WR-TIMEZONE:America/New_York
BEGIN:VTIMEZONE
TZID:America/New_York
BEGIN:STANDARD
TZNAME:EST
DTSTART:20181104T020000
TZOFFSETFROM:-0400
TZOFFSETTO:-0500
RDATE:20191103T020000
END:STANDARD
BEGIN:DAYLIGHT
TZNAME:EDT
DTSTART:20180311T020000
TZOFFSETFROM:-0500
TZOFFSETTO:-0400
RDATE:20190310T020000
RDATE:20200308T020000
END:DAYLIGHT
END:VTIMEZONE
BEGIN:VEVENT
UID:73621290-c7a9-4233-8cfb-bd3b4ec7cc1b
DTSTAMP:20260422T225709Z
DESCRIPTION:The Works will be open Saturday & Sunday February 16 & 17 from 
 Noon-4PM to host STEMfest! Free and open to the public\, STEMfest! feature
 s an Industry & Education Showcase\, where youth can engage in hands-on ex
 ploration of the career and education opportunities in our community. Expl
 ore the museum at no charge and visit the booths of community organization
 s where guests are shown how science\, technology\, engineering\, and math
  are applied within their industry through fun hands-on activities. The ev
 ent engages middle school and high school youth in design-based problem so
 lving challenges with a variety of disciplines that relate to what scienti
 sts and engineers encounter every day in their careers. During STEMfest!\,
  teams of students from middle and high schools across central Ohio presen
 t their findings to the STEMfest! Problem Solving Challenge they chose to 
 explore.
DTSTART;TZID=America/New_York:20190217T120000
DTEND;TZID=America/New_York:20190217T160000
LOCATION:The Works\, 55 S 1st St\, Newark\, OH 43055
SUMMARY:LCSWCD @ STEMFest at the Works
END:VEVENT
END:VCALENDAR
