BEGIN:VCALENDAR
VERSION:2.0
PRODID:-//lickingswcd.com//NONSGML kigkonsult.se iCalcreator 2.30.10//
CALSCALE:GREGORIAN
METHOD:PUBLISH
UID:3248ede7-ca50-4687-8050-e7677a471aa0
X-WR-CALDESC:Licking County & Others MS4 Permit Quarterly meetings occur on
  the 3rd Wednesday of February\, May\, August and November. The 2019 dates
  are 2/20\, 5/15\, 8/21\, 11/20.
X-WR-RELCALID:012ed91b081730b40f2b812c5c03fca8
X-WR-TIMEZONE:America/New_York
BEGIN:VTIMEZONE
TZID:America/New_York
BEGIN:STANDARD
TZNAME:EST
DTSTART:20181104T020000
TZOFFSETFROM:-0400
TZOFFSETTO:-0500
RDATE:20191103T020000
END:STANDARD
BEGIN:DAYLIGHT
TZNAME:EDT
DTSTART:20180311T020000
TZOFFSETFROM:-0500
TZOFFSETTO:-0400
RDATE:20190310T020000
RDATE:20200308T020000
END:DAYLIGHT
END:VTIMEZONE
BEGIN:VEVENT
UID:e5e03d88-25ba-4bf0-8d76-d9933cb5db04
DTSTAMP:20260422T230302Z
DESCRIPTION:Licking County & Others MS4 Permit Quarterly meetings occur on 
 the 3rd Wednesday of February\, May\, August and November. The 2019 dates 
 are 2/20\, 5/15\, 8/21\, 11/20.
DTSTART;TZID=America/New_York:20190220T090000
DTEND;TZID=America/New_York:20190220T103000
LOCATION:Ag Service Center\, 771 East Main Street\, Newark\, OH  43055
SUMMARY:Stormwater Consortium Meeting
END:VEVENT
END:VCALENDAR
