BEGIN:VCALENDAR
VERSION:2.0
PRODID:-//lickingswcd.com//NONSGML kigkonsult.se iCalcreator 2.30.10//
CALSCALE:GREGORIAN
METHOD:PUBLISH
UID:f04fc84d-2aa5-4611-8233-52e0fcdccae8
X-WR-CALDESC:The 76th Annual Conservation Partnership Meeting will be held 
 on February 24-26\, 2019 at the Columbus Renaissance Hotel. Special guests
 \, legislators\, agency and business leaders and more will be joining the 
 movement as we come together to celebrate\, inspire and prepare conservati
 on stewards for the future.
X-WR-RELCALID:77b9ba58e893a9912f70f036901d604e
X-WR-TIMEZONE:America/New_York
BEGIN:VTIMEZONE
TZID:America/New_York
BEGIN:STANDARD
TZNAME:EST
DTSTART:20181104T020000
TZOFFSETFROM:-0400
TZOFFSETTO:-0500
RDATE:20191103T020000
END:STANDARD
BEGIN:DAYLIGHT
TZNAME:EDT
DTSTART:20180311T020000
TZOFFSETFROM:-0500
TZOFFSETTO:-0400
RDATE:20190310T020000
RDATE:20200308T020000
END:DAYLIGHT
END:VTIMEZONE
BEGIN:VEVENT
UID:2579ec53-5b07-4624-a989-4156c3ee6cac
DTSTAMP:20260422T214856Z
DESCRIPTION:The 76th Annual Conservation Partnership Meeting will be held o
 n February 24-26\, 2019 at the Columbus Renaissance Hotel. Special guests\
 , legislators\, agency and business leaders and more will be joining the m
 ovement as we come together to celebrate\, inspire and prepare conservatio
 n stewards for the future.
DTSTART;TZID=America/New_York:20190225T080000
DTEND;TZID=America/New_York:20190226T160000
LOCATION:
SUMMARY:Ohio Federation of Soil & Water Conservation Districts Annual Partn
 er Meeting
END:VEVENT
END:VCALENDAR
