BEGIN:VCALENDAR
VERSION:2.0
PRODID:-//lickingswcd.com//NONSGML kigkonsult.se iCalcreator 2.30.10//
CALSCALE:GREGORIAN
METHOD:PUBLISH
UID:7fb53a0a-03ac-44a0-a67b-f407e1221ceb
X-WR-CALDESC:Annually the USDA Natural Resources Conservation Service (NRCS
 ) and the Licking County Soil & Water Conservation District gathers landow
 ners to discuss local conservation practices and needs.  Locally-led conse
 rvation is based on the principle that local people make the best decision
 s for their own communities. This year the Farm Bureau is joining the conv
 ersation to determine policy needs from their Licking County members. \nTh
 e purpose of the LWG is to provide guidance to your NRCS and Soil & Water 
 field offices concerning the implementation and delivery of conservation p
 rograms.  You are part of a diverse group invited to discuss topics such a
 s:\n•	Conditions of the natural resources in Licking County\n•	The local app
 lication process for NRCS programs\, including ranking criteria and applic
 ation periods\n•	Eligible conservation practices\n•	Program performance indi
 cators\n•	Identify educational needs of producers\n•	Public outreach and inf
 ormation efforts\n•	The need for new\, innovative conservation practices\n•
 	How NRCS and Soil & Water can partner to best serve the people of Licking 
 County\n\nIn addition to these topics\, Farm Bureau works on a diverse lis
 t of issues including trade\, ag education\, infrastructure\, commodities 
 and crop insurance. Farm Bureau believes that the best policies start at t
 he grassroots level from people who live it everyday.\n\n\n
X-WR-RELCALID:60387db2d1f3f80f4106820dfce07191
X-WR-TIMEZONE:America/New_York
BEGIN:VTIMEZONE
TZID:America/New_York
BEGIN:STANDARD
TZNAME:EST
DTSTART:20181104T020000
TZOFFSETFROM:-0400
TZOFFSETTO:-0500
RDATE:20191103T020000
END:STANDARD
BEGIN:DAYLIGHT
TZNAME:EDT
DTSTART:20180311T020000
TZOFFSETFROM:-0500
TZOFFSETTO:-0400
RDATE:20190310T020000
RDATE:20200308T020000
END:DAYLIGHT
END:VTIMEZONE
BEGIN:VEVENT
UID:3a944def-d491-400f-b0ff-c283dffe602c
DTSTAMP:20260422T230914Z
DESCRIPTION:Annually the USDA Natural Resources Conservation Service (NRCS)
  and the Licking County Soil & Water Conservation District gathers landown
 ers to discuss local conservation practices and needs.  Locally-led conser
 vation is based on the principle that local people make the best decisions
  for their own communities. This year the Farm Bureau is joining the conve
 rsation to determine policy needs from their Licking County members. \nThe
  purpose of the LWG is to provide guidance to your NRCS and Soil & Water f
 ield offices concerning the implementation and delivery of conservation pr
 ograms.  You are part of a diverse group invited to discuss topics such as
 :\n•	Conditions of the natural resources in Licking County\n•	The local appl
 ication process for NRCS programs\, including ranking criteria and applica
 tion periods\n•	Eligible conservation practices\n•	Program performance indic
 ators\n•	Identify educational needs of producers\n•	Public outreach and info
 rmation efforts\n•	The need for new\, innovative conservation practices\n•	H
 ow NRCS and Soil & Water can partner to best serve the people of Licking C
 ounty\n\nIn addition to these topics\, Farm Bureau works on a diverse list
  of issues including trade\, ag education\, infrastructure\, commodities a
 nd crop insurance. Farm Bureau believes that the best policies start at th
 e grassroots level from people who live it everyday.\n\n\n
DTSTART;TZID=America/New_York:20190308T070000
DTEND;TZID=America/New_York:20190308T090000
LOCATION:The Grove by the River\, 840 Hollander Street\, Newark\, OH
SUMMARY:Local Work Group and Farm Bureau Policy Development Breakfast
END:VEVENT
END:VCALENDAR
