BEGIN:VCALENDAR
VERSION:2.0
PRODID:-//lickingswcd.com//NONSGML kigkonsult.se iCalcreator 2.30.10//
CALSCALE:GREGORIAN
METHOD:PUBLISH
UID:f1ee535d-46d7-45b1-8aa4-c7e374b5487b
X-WR-CALDESC:The South Licking Watershed Conservancy District includes port
 ions of Licking\, Fairfield and Perry counties. Conservancy districts are 
 charged with reducing flooding\; management of streams wetlands and relate
 d conservation\; and water quality and supply issues.
X-WR-RELCALID:f1aea497dab7d83825d8c88cc7294d8f
X-WR-TIMEZONE:America/New_York
BEGIN:VTIMEZONE
TZID:America/New_York
BEGIN:STANDARD
TZNAME:EST
DTSTART:20181104T020000
TZOFFSETFROM:-0400
TZOFFSETTO:-0500
RDATE:20191103T020000
END:STANDARD
BEGIN:DAYLIGHT
TZNAME:EDT
DTSTART:20180311T020000
TZOFFSETFROM:-0500
TZOFFSETTO:-0400
RDATE:20190310T020000
RDATE:20200308T020000
END:DAYLIGHT
END:VTIMEZONE
BEGIN:VEVENT
UID:c2213b76-d77d-4544-ad3c-44ccd214464d
DTSTAMP:20260422T232405Z
DESCRIPTION:The South Licking Watershed Conservancy District includes porti
 ons of Licking\, Fairfield and Perry counties. Conservancy districts are c
 harged with reducing flooding\; management of streams wetlands and related
  conservation\; and water quality and supply issues.
DTSTART;TZID=America/New_York:20190311T180000
DTEND;TZID=America/New_York:20190311T190000
LOCATION:Village of Hebron Municipal Complex\, 934 W. Main Street\, Hebron\
 , OH 43025.
SUMMARY:South Licking Watershed Conservancy District Monthly Meeting
END:VEVENT
END:VCALENDAR
