BEGIN:VCALENDAR
VERSION:2.0
PRODID:-//lickingswcd.com//NONSGML kigkonsult.se iCalcreator 2.30.10//
CALSCALE:GREGORIAN
METHOD:PUBLISH
UID:7779cbbc-3cf1-42f2-9295-63ba70df3da9
X-WR-CALDESC:Join Licking County Soil & Water and OSU Extension for Soil He
 alth 101. This class will provide an introduction to basic soil science an
 d soil conservation. Also\, learn how to take a proper soil sample\, how t
 o get results\, and why soil health is important. Soil samples will not be
  tested during the class. \nSoil testing kits are available from OSU Exten
 sion for a $15 fee\; typically receive results within 7-10 days.
X-WR-RELCALID:872677dd992e90b628235a537528d47d
X-WR-TIMEZONE:America/New_York
BEGIN:VTIMEZONE
TZID:America/New_York
BEGIN:STANDARD
TZNAME:EST
DTSTART:20181104T020000
TZOFFSETFROM:-0400
TZOFFSETTO:-0500
RDATE:20191103T020000
END:STANDARD
BEGIN:DAYLIGHT
TZNAME:EDT
DTSTART:20190310T020000
TZOFFSETFROM:-0500
TZOFFSETTO:-0400
RDATE:20200308T020000
END:DAYLIGHT
END:VTIMEZONE
BEGIN:VEVENT
UID:5d352b6f-1451-41c7-a7d5-9a2d9abfe484
DTSTAMP:20260422T233149Z
DESCRIPTION:Join Licking County Soil & Water and OSU Extension for Soil Hea
 lth 101. This class will provide an introduction to basic soil science and
  soil conservation. Also\, learn how to take a proper soil sample\, how to
  get results\, and why soil health is important. Soil samples will not be 
 tested during the class. \nSoil testing kits are available from OSU Extens
 ion for a $15 fee\; typically receive results within 7-10 days.
DTSTART;TZID=America/New_York:20190316T100000
DTEND;TZID=America/New_York:20190316T120000
LOCATION:Wilson's Garden Center\, 10923 Lambs Ln\, Newark\, Ohio. 43055
SUMMARY:Soil Health 101 @ Wilson's Garden Center
END:VEVENT
END:VCALENDAR
