BEGIN:VCALENDAR
VERSION:2.0
PRODID:-//lickingswcd.com//NONSGML kigkonsult.se iCalcreator 2.30.10//
CALSCALE:GREGORIAN
METHOD:PUBLISH
UID:9720af0e-3ff9-4462-a149-fa11c3bd3b64
X-WR-CALDESC:Talk with colleagues from around the state about:\n\n·        
 NRCS programs in the new farm bill\n\n·        Ohio land trust priorities 
 in the new Ohio administration\n\n·        Stewardship and monitoring tool
 s and practices\n\n·        Board building techniques\n\n·        Legal is
 sues in conservation easements
X-WR-RELCALID:221bf8ac77007222742720300c74b928
X-WR-TIMEZONE:America/New_York
BEGIN:VTIMEZONE
TZID:America/New_York
BEGIN:STANDARD
TZNAME:EST
DTSTART:20181104T020000
TZOFFSETFROM:-0400
TZOFFSETTO:-0500
RDATE:20191103T020000
END:STANDARD
BEGIN:DAYLIGHT
TZNAME:EDT
DTSTART:20190310T020000
TZOFFSETFROM:-0500
TZOFFSETTO:-0400
RDATE:20200308T020000
END:DAYLIGHT
END:VTIMEZONE
BEGIN:VEVENT
UID:df5cb90b-98e9-4369-aabf-a59653dcc20d
DTSTAMP:20260422T232308Z
DESCRIPTION:Talk with colleagues from around the state about:\n\n·        N
 RCS programs in the new farm bill\n\n·        Ohio land trust priorities i
 n the new Ohio administration\n\n·        Stewardship and monitoring tools
  and practices\n\n·        Board building techniques\n\n·        Legal iss
 ues in conservation easements
DTSTART;TZID=America/New_York:20190329T083000
DTEND;TZID=America/New_York:20190330T133000
LOCATION:DoubleTree Newark
SUMMARY:Coalition of Ohio Land Trusts Annual Meeting
END:VEVENT
END:VCALENDAR
