BEGIN:VCALENDAR
VERSION:2.0
PRODID:-//lickingswcd.com//NONSGML kigkonsult.se iCalcreator 2.30.10//
CALSCALE:GREGORIAN
METHOD:PUBLISH
UID:13376812-48ff-407e-bd72-11cf3285de4c
X-WR-CALDESC:Annually\, we distribute tens of thousands of trees.  Consider
  helping inventory and package the delicate seedling trees\, put together 
 wildflower seed packets and assist community members when they pick up the
 ir trees.  Opportunities are inside and outside\, sitting and standing\, a
 nd for a couple hours or for a whole day.  \n\nMorning - 8:30 am - 12:00 p
 m - assisting community members when they pick up their orders and prepari
 ng seedling trees for students.\nAfternoon - 12:00 pm - 3:30 pm - assistin
 g community members when they pick up their orders and preparing seedling 
 trees for students.\nEvening- 3:30 pm -7:00 pm - assisting community membe
 rs when they pick up their orders and preparing seedling trees for student
 s.\n\nSing up to volunteer below.
X-WR-RELCALID:44f7c292dad91ed1f0b6a9ebfa469e83
X-WR-TIMEZONE:America/New_York
BEGIN:VTIMEZONE
TZID:America/New_York
BEGIN:STANDARD
TZNAME:EST
DTSTART:20181104T020000
TZOFFSETFROM:-0400
TZOFFSETTO:-0500
RDATE:20191103T020000
END:STANDARD
BEGIN:DAYLIGHT
TZNAME:EDT
DTSTART:20190310T020000
TZOFFSETFROM:-0500
TZOFFSETTO:-0400
RDATE:20200308T020000
END:DAYLIGHT
END:VTIMEZONE
BEGIN:VEVENT
UID:dc9683b3-298e-4077-b684-c093c4afb1f1
DTSTAMP:20260423T010458Z
DESCRIPTION:Annually\, we distribute tens of thousands of trees.  Consider 
 helping inventory and package the delicate seedling trees\, put together w
 ildflower seed packets and assist community members when they pick up thei
 r trees.  Opportunities are inside and outside\, sitting and standing\, an
 d for a couple hours or for a whole day.  \n\nMorning - 8:30 am - 12:00 pm
  - assisting community members when they pick up their orders and preparin
 g seedling trees for students.\nAfternoon - 12:00 pm - 3:30 pm - assisting
  community members when they pick up their orders and preparing seedling t
 rees for students.\nEvening- 3:30 pm -7:00 pm - assisting community member
 s when they pick up their orders and preparing seedling trees for students
 .\n\nSing up to volunteer below.
DTSTART;TZID=America/New_York:20190412T083000
DTEND;TZID=America/New_York:20190412T190000
LOCATION:
SUMMARY:Volunteer to Help with Tree Sale Prep
END:VEVENT
END:VCALENDAR
