BEGIN:VCALENDAR
VERSION:2.0
PRODID:-//lickingswcd.com//NONSGML kigkonsult.se iCalcreator 2.30.10//
CALSCALE:GREGORIAN
METHOD:PUBLISH
UID:f632513f-53b7-4f4a-a925-75b775dc50ef
X-WR-CALDESC:Join the Blanchard River Demonstration Farms Network Spring Bu
 s Tour and get an up-close-and-personal experience with three local farms 
 and farmers involved with implementing new and established conservation pr
 actices in the Blanchard River Watershed. The demonstration farms in north
 west Ohio are part of five year\, $1 million partnership between USDA Natu
 ral Resources Conservation Service and the Ohio Farm Bureau Federation.\n
 \nThe event is free and open to the public but you must register. Buses wi
 ll be placed at a central location pick up and you will be taken around to
  all three farms to hear from industry experts and the farmers themselves.
  Conservation practices on premises will include: cover crops\, Edge of Fi
 eld monitoring\, manure management\, sub-surface nutrient placement\, wetl
 and\, pollinator habitats\, drainage water management structures and many 
 more.
X-WR-RELCALID:4a1dce389a7e3117ace82560b8fe0152
X-WR-TIMEZONE:America/New_York
BEGIN:VTIMEZONE
TZID:America/New_York
BEGIN:STANDARD
TZNAME:EST
DTSTART:20181104T020000
TZOFFSETFROM:-0400
TZOFFSETTO:-0500
RDATE:20191103T020000
END:STANDARD
BEGIN:DAYLIGHT
TZNAME:EDT
DTSTART:20190310T020000
TZOFFSETFROM:-0500
TZOFFSETTO:-0400
RDATE:20200308T020000
END:DAYLIGHT
END:VTIMEZONE
BEGIN:VEVENT
UID:d209c27d-effe-4178-a4ab-8130e1c181cd
DTSTAMP:20260423T011051Z
DESCRIPTION:Join the Blanchard River Demonstration Farms Network Spring Bus
  Tour and get an up-close-and-personal experience with three local farms a
 nd farmers involved with implementing new and established conservation pra
 ctices in the Blanchard River Watershed. The demonstration farms in northw
 est Ohio are part of five year\, $1 million partnership between USDA Natur
 al Resources Conservation Service and the Ohio Farm Bureau Federation.\n\n
 The event is free and open to the public but you must register. Buses will
  be placed at a central location pick up and you will be taken around to a
 ll three farms to hear from industry experts and the farmers themselves. C
 onservation practices on premises will include: cover crops\, Edge of Fiel
 d monitoring\, manure management\, sub-surface nutrient placement\, wetlan
 d\, pollinator habitats\, drainage water management structures and many mo
 re.
DTSTART;TZID=America/New_York:20190426T093000
DTEND;TZID=America/New_York:20190426T143000
LOCATION:Blanchard River Demonstration Farms
SUMMARY:Blanchard River Demonstration Farms Network Spring Bus Tour
END:VEVENT
END:VCALENDAR
