BEGIN:VCALENDAR
VERSION:2.0
PRODID:-//lickingswcd.com//NONSGML kigkonsult.se iCalcreator 2.30.10//
CALSCALE:GREGORIAN
METHOD:PUBLISH
UID:8685bb43-d69d-4b40-840b-ad20b234ce2a
X-WR-CALDESC:“Life in the Soil: Dig Deeper.” \nSoil is a dirty topic\, but 
 everyone needs to learn more about it! Soil is the foundation for many of 
 the items we use in our daily life\, such as food\, clothing\, clean water
 \, homes and more. Healthy soil equals healthy food\, which equals a healt
 hy you. Don’t treat your soil like dirt!
X-WR-RELCALID:15eed26321e837c3743b3f27dfd02c82
X-WR-TIMEZONE:America/New_York
BEGIN:VTIMEZONE
TZID:America/New_York
BEGIN:STANDARD
TZNAME:EST
DTSTART:20181104T020000
TZOFFSETFROM:-0400
TZOFFSETTO:-0500
RDATE:20191103T020000
END:STANDARD
BEGIN:DAYLIGHT
TZNAME:EDT
DTSTART:20190310T020000
TZOFFSETFROM:-0500
TZOFFSETTO:-0400
RDATE:20200308T020000
END:DAYLIGHT
END:VTIMEZONE
BEGIN:VEVENT
UID:55f6f1de-ee66-4d24-bff5-c39713077ba6
DTSTAMP:20260423T011158Z
DESCRIPTION:“Life in the Soil: Dig Deeper.” \nSoil is a dirty topic\, but e
 veryone needs to learn more about it! Soil is the foundation for many of t
 he items we use in our daily life\, such as food\, clothing\, clean water\
 , homes and more. Healthy soil equals healthy food\, which equals a health
 y you. Don’t treat your soil like dirt!
DTSTART;TZID=America/New_York:20190428T103000
DTEND;TZID=America/New_York:20190505T113000
LOCATION:
SUMMARY:Stewardship Week: Life in the Soil: Dig Deeper
END:VEVENT
END:VCALENDAR
