BEGIN:VCALENDAR
VERSION:2.0
PRODID:-//lickingswcd.com//NONSGML kigkonsult.se iCalcreator 2.30.10//
CALSCALE:GREGORIAN
METHOD:PUBLISH
UID:75e2053b-f460-4325-85be-a0b5a849c3e7
X-WR-CALDESC:Visit Soil & Water at this event!  \n
X-WR-RELCALID:5d1ffa69b7386ec14cba6228d92f297b
X-WR-TIMEZONE:America/New_York
BEGIN:VTIMEZONE
TZID:America/New_York
BEGIN:STANDARD
TZNAME:EST
DTSTART:20181104T020000
TZOFFSETFROM:-0400
TZOFFSETTO:-0500
RDATE:20191103T020000
END:STANDARD
BEGIN:DAYLIGHT
TZNAME:EDT
DTSTART:20190310T020000
TZOFFSETFROM:-0500
TZOFFSETTO:-0400
RDATE:20200308T020000
END:DAYLIGHT
END:VTIMEZONE
BEGIN:VEVENT
UID:391a100e-b1e3-441d-94d8-4d6ae5c6931c
DTSTAMP:20260423T022759Z
DESCRIPTION:Visit Soil & Water at this event!  \n
DTSTART;TZID=America/New_York:20190428T120000
DTEND;TZID=America/New_York:20190428T160000
LOCATION:Gellar Park\, Heath
SUMMARY:The Energy Cooperative Earth & Energy Day
END:VEVENT
END:VCALENDAR
