BEGIN:VCALENDAR
VERSION:2.0
PRODID:-//lickingswcd.com//NONSGML kigkonsult.se iCalcreator 2.30.10//
CALSCALE:GREGORIAN
METHOD:PUBLISH
UID:6ffd420c-ee82-4037-9a4d-ed878a83ee40
X-WR-CALDESC:An evening of live music\, games\, fireworks\, and fun!
X-WR-RELCALID:8edd090fdb07c02d7a5ad61e28ce57f3
X-WR-TIMEZONE:America/New_York
BEGIN:VTIMEZONE
TZID:America/New_York
BEGIN:STANDARD
TZNAME:EST
DTSTART:20181104T020000
TZOFFSETFROM:-0400
TZOFFSETTO:-0500
RDATE:20191103T020000
RDATE:20201101T020000
END:STANDARD
BEGIN:DAYLIGHT
TZNAME:EDT
DTSTART:20190310T020000
TZOFFSETFROM:-0500
TZOFFSETTO:-0400
RDATE:20200308T020000
END:DAYLIGHT
END:VTIMEZONE
BEGIN:VEVENT
UID:614745b1-9fba-4c54-8e0f-fef4b1053851
DTSTAMP:20260423T022010Z
DESCRIPTION:An evening of live music\, games\, fireworks\, and fun!
DTSTART;TZID=America/New_York:20190516T180000
DTEND;TZID=America/New_York:20190516T220000
LOCATION:Geller Park\, 580 Cynthia St\, Newark\, OH 43056
SUMMARY:Soil & Water at Heath Star Spangled Celebration
END:VEVENT
END:VCALENDAR
