BEGIN:VCALENDAR
VERSION:2.0
PRODID:-//lickingswcd.com//NONSGML kigkonsult.se iCalcreator 2.30.10//
CALSCALE:GREGORIAN
METHOD:PUBLISH
UID:ecb0da79-9acc-480c-a1b8-4d714d50bb62
X-WR-CALDESC:
X-WR-RELCALID:84958e31b17cbbf3cca13b14aaa8d476
X-WR-TIMEZONE:America/New_York
BEGIN:VTIMEZONE
TZID:America/New_York
BEGIN:STANDARD
TZNAME:EST
DTSTART:20181104T020000
TZOFFSETFROM:-0400
TZOFFSETTO:-0500
RDATE:20191103T020000
RDATE:20201101T020000
END:STANDARD
BEGIN:DAYLIGHT
TZNAME:EDT
DTSTART:20190310T020000
TZOFFSETFROM:-0500
TZOFFSETTO:-0400
RDATE:20200308T020000
END:DAYLIGHT
END:VTIMEZONE
BEGIN:VEVENT
UID:11e48772-d0c0-428c-8fc6-6160c749ca9d
DTSTAMP:20260423T021154Z
DESCRIPTION:
DTSTART;TZID=America/New_York:20190516T123000
DTEND;TZID=America/New_York:20190516T133000
LOCATION:The Thomas J. Evans Foundation Park 10255 McIntosh Rd\, Pataskala\
 , OH 43062\, USA
SUMMARY:Stream Study
END:VEVENT
END:VCALENDAR
