BEGIN:VCALENDAR
VERSION:2.0
PRODID:-//lickingswcd.com//NONSGML kigkonsult.se iCalcreator 2.30.10//
CALSCALE:GREGORIAN
METHOD:PUBLISH
UID:fe8ff3f8-bb91-42a5-85b0-7f839aab807c
X-WR-CALDESC:
X-WR-RELCALID:c0b6e612ccd65af41b20d33709a0a7fe
X-WR-TIMEZONE:America/New_York
BEGIN:VTIMEZONE
TZID:America/New_York
BEGIN:STANDARD
TZNAME:EST
DTSTART:20181104T020000
TZOFFSETFROM:-0400
TZOFFSETTO:-0500
RDATE:20191103T020000
RDATE:20201101T020000
END:STANDARD
BEGIN:DAYLIGHT
TZNAME:EDT
DTSTART:20190310T020000
TZOFFSETFROM:-0500
TZOFFSETTO:-0400
RDATE:20200308T020000
END:DAYLIGHT
END:VTIMEZONE
BEGIN:VEVENT
UID:15f7b225-5820-4850-89af-e9f8ffcaa192
DTSTAMP:20260423T021452Z
DESCRIPTION:
DTSTART;TZID=America/New_York:20190527T000000
DTEND;TZID=America/New_York:20190527T235900
LOCATION:SWCD Office
SUMMARY:Memorial Day- office closed
END:VEVENT
END:VCALENDAR
