BEGIN:VCALENDAR
VERSION:2.0
PRODID:-//lickingswcd.com//NONSGML kigkonsult.se iCalcreator 2.30.10//
CALSCALE:GREGORIAN
METHOD:PUBLISH
UID:59e8c194-8c9f-4e5b-9d36-fed037d1efaf
X-WR-CALDESC:The 2019 OCVN class will present their final project for gradu
 ation.  The public is welcome to attend!  \n\nOCVN Program:  \nThe Ohio Ce
 rtified Volunteer Naturalist (OCVN) program is a natural resources outreac
 h and service program. The mission of the OCVN program is to promote aware
 ness and citizen stewardship of Ohio’s natural resources through science-b
 ased education and community service. Ohio Certified Volunteer Naturalists
  provide volunteer service to hundreds of organizations so that their acti
 vities and programs can be more effectively and efficiently delivered to t
 he general public.
X-WR-RELCALID:37440214cbeeccf4a716cfb1f04337a3
X-WR-TIMEZONE:America/New_York
BEGIN:VTIMEZONE
TZID:America/New_York
BEGIN:STANDARD
TZNAME:EST
DTSTART:20181104T020000
TZOFFSETFROM:-0400
TZOFFSETTO:-0500
RDATE:20191103T020000
RDATE:20201101T020000
END:STANDARD
BEGIN:DAYLIGHT
TZNAME:EDT
DTSTART:20190310T020000
TZOFFSETFROM:-0500
TZOFFSETTO:-0400
RDATE:20200308T020000
END:DAYLIGHT
END:VTIMEZONE
BEGIN:VEVENT
UID:49d76b3c-0162-4aa3-b518-4e766eb75c67
DTSTAMP:20260423T035136Z
DESCRIPTION:The 2019 OCVN class will present their final project for gradua
 tion.  The public is welcome to attend!  \n\nOCVN Program:  \nThe Ohio Cer
 tified Volunteer Naturalist (OCVN) program is a natural resources outreach
  and service program. The mission of the OCVN program is to promote awaren
 ess and citizen stewardship of Ohio’s natural resources through science-ba
 sed education and community service. Ohio Certified Volunteer Naturalists 
 provide volunteer service to hundreds of organizations so that their activ
 ities and programs can be more effectively and efficiently delivered to th
 e general public.
DTSTART;TZID=America/New_York:20190604T173000
DTEND;TZID=America/New_York:20190604T193000
LOCATION:
SUMMARY:OCVN Class Final Presentations
END:VEVENT
END:VCALENDAR
