BEGIN:VCALENDAR
VERSION:2.0
PRODID:-//lickingswcd.com//NONSGML kigkonsult.se iCalcreator 2.30.10//
CALSCALE:GREGORIAN
METHOD:PUBLISH
UID:fcc4bd76-c01b-4c51-8218-66a3c0ad9c0e
X-WR-CALDESC:Why plant rain gardens? The news has recently been saturated (
 pun intended) with water-related headlines about elevated nitrate levels a
 nd localized flooding from heavy rainfall and stormwater runoff.  Toxic al
 gae continues to be a problem at Buckeye Lake and around Ohio.  Rain garde
 ns allow rainwater to slowly soak into the ground and reduce the amount of
  polluted stormwater flowing into nearby streams.   \nWhat is a rain barre
 l? Rain barrels collect and store rainwater from rooftops\, thereby reduci
 ng runoff and flooding during storms. Use rain barrel water to irrigate la
 ndscaping and gardens while saving money on water bills. \n\nAt the worksh
 op\, view a well-established rain garden\; then learn how to design and in
 stall a rain garden on your property.  Next\, build your own rain barrel s
 o you can start harvesting rainwater from your roof.\n\nEach Rain Barrel i
 s $50. You can pay online with the registration system. If you choose to p
 ay onsite\, we can only accept cash or check.
X-WR-RELCALID:e8a4962f9afe0a1802631616bb8849df
X-WR-TIMEZONE:America/New_York
BEGIN:VTIMEZONE
TZID:America/New_York
BEGIN:STANDARD
TZNAME:EST
DTSTART:20181104T020000
TZOFFSETFROM:-0400
TZOFFSETTO:-0500
RDATE:20191103T020000
RDATE:20201101T020000
END:STANDARD
BEGIN:DAYLIGHT
TZNAME:EDT
DTSTART:20190310T020000
TZOFFSETFROM:-0500
TZOFFSETTO:-0400
RDATE:20200308T020000
END:DAYLIGHT
END:VTIMEZONE
BEGIN:VEVENT
UID:6e916a63-1763-4817-9f3e-00cb81f0a64e
DTSTAMP:20260423T035908Z
DESCRIPTION:Why plant rain gardens? The news has recently been saturated (p
 un intended) with water-related headlines about elevated nitrate levels an
 d localized flooding from heavy rainfall and stormwater runoff.  Toxic alg
 ae continues to be a problem at Buckeye Lake and around Ohio.  Rain garden
 s allow rainwater to slowly soak into the ground and reduce the amount of 
 polluted stormwater flowing into nearby streams.   \nWhat is a rain barrel
 ? Rain barrels collect and store rainwater from rooftops\, thereby reducin
 g runoff and flooding during storms. Use rain barrel water to irrigate lan
 dscaping and gardens while saving money on water bills. \n\nAt the worksho
 p\, view a well-established rain garden\; then learn how to design and ins
 tall a rain garden on your property.  Next\, build your own rain barrel so
  you can start harvesting rainwater from your roof.\n\nEach Rain Barrel is
  $50. You can pay online with the registration system. If you choose to pa
 y onsite\, we can only accept cash or check.
DTSTART;TZID=America/New_York:20190613T180000
DTEND;TZID=America/New_York:20190613T200000
LOCATION:
SUMMARY:DIY Rain Barrel and Rain Garden Workshop
END:VEVENT
END:VCALENDAR
