BEGIN:VCALENDAR
VERSION:2.0
PRODID:-//lickingswcd.com//NONSGML kigkonsult.se iCalcreator 2.30.10//
CALSCALE:GREGORIAN
METHOD:PUBLISH
UID:cc6cebe5-eb76-46ed-a3cd-4d62c35891d1
X-WR-CALDESC:Bring the kids out for a day of fishing\, hiking exploring the
  world of water\, birdhouse building and much more!
X-WR-RELCALID:28dbc3269c106b364dca279c8bcc874d
X-WR-TIMEZONE:America/New_York
BEGIN:VTIMEZONE
TZID:America/New_York
BEGIN:STANDARD
TZNAME:EST
DTSTART:20181104T020000
TZOFFSETFROM:-0400
TZOFFSETTO:-0500
RDATE:20191103T020000
RDATE:20201101T020000
END:STANDARD
BEGIN:DAYLIGHT
TZNAME:EDT
DTSTART:20190310T020000
TZOFFSETFROM:-0500
TZOFFSETTO:-0400
RDATE:20200308T020000
END:DAYLIGHT
END:VTIMEZONE
BEGIN:VEVENT
UID:1265de96-9296-44a8-91fc-3e15d99a3cc0
DTSTAMP:20260423T040817Z
DESCRIPTION:Bring the kids out for a day of fishing\, hiking exploring the 
 world of water\, birdhouse building and much more!
DTSTART;TZID=America/New_York:20190622T090000
DTEND;TZID=America/New_York:20190622T150000
LOCATION:The Thomas J. Evans Foundation Park 10255 McIntosh Rd\, Pataskala\
 , OH 43062\, USA
SUMMARY:Outdoor Family Adventure Day
END:VEVENT
END:VCALENDAR
