BEGIN:VCALENDAR
VERSION:2.0
PRODID:-//lickingswcd.com//NONSGML kigkonsult.se iCalcreator 2.30.10//
CALSCALE:GREGORIAN
METHOD:PUBLISH
UID:0473f0a4-de7a-4819-bbde-86ab23f87205
X-WR-CALDESC:Topics include:  \n•	Long-term environmental and financial succ
 ess of various forest management practices \n•	How Trees Grow\n•	Property Ta
 x Reduction Programs\n•	Improving the Quality and Growth of your Trees\n•	Se
 lling Timber\n•	Economics of Forestry\n\nDress appropriately for this rain 
 or shine outdoor session. Bring a sack lunch and folding chair.\n\nRegistr
 ation limited to 35 participants at no charge.\nContact Division of Forest
 ry/Lila Watters to reserve your spot at Lila.watters@dnr.state.oh.us or by
  calling 440-490-1178.\n\n\n
X-WR-RELCALID:f0234a06c9b3faceeac95dd3d937dfec
X-WR-TIMEZONE:America/New_York
BEGIN:VTIMEZONE
TZID:America/New_York
BEGIN:STANDARD
TZNAME:EST
DTSTART:20181104T020000
TZOFFSETFROM:-0400
TZOFFSETTO:-0500
RDATE:20191103T020000
RDATE:20201101T020000
END:STANDARD
BEGIN:DAYLIGHT
TZNAME:EDT
DTSTART:20190310T020000
TZOFFSETFROM:-0500
TZOFFSETTO:-0400
RDATE:20200308T020000
END:DAYLIGHT
END:VTIMEZONE
BEGIN:VEVENT
UID:5d4afda2-0b6f-40e7-82b9-dae85bd77520
DTSTAMP:20260423T040931Z
DESCRIPTION:Topics include:  \n•	Long-term environmental and financial succe
 ss of various forest management practices \n•	How Trees Grow\n•	Property Tax
  Reduction Programs\n•	Improving the Quality and Growth of your Trees\n•	Sel
 ling Timber\n•	Economics of Forestry\n\nDress appropriately for this rain o
 r shine outdoor session. Bring a sack lunch and folding chair.\n\nRegistra
 tion limited to 35 participants at no charge.\nContact Division of Forestr
 y/Lila Watters to reserve your spot at Lila.watters@dnr.state.oh.us or by 
 calling 440-490-1178.\n\n\n
DTSTART;TZID=America/New_York:20190628T093000
DTEND;TZID=America/New_York:20190628T150000
LOCATION:Swinehaart Family Property\, 6640 Dorsey Mill Road SE\, Newark\, O
 H  43055
SUMMARY:Forestry Field Day with Division of Forestry
END:VEVENT
END:VCALENDAR
