BEGIN:VCALENDAR
VERSION:2.0
PRODID:-//lickingswcd.com//NONSGML kigkonsult.se iCalcreator 2.30.10//
CALSCALE:GREGORIAN
METHOD:PUBLISH
UID:8f0094c8-ece1-4216-8086-e9e029840a65
X-WR-CALDESC:Join Darrel the Rainbarrel at the Granville Kiwanis Fourth of 
 July Parade!
X-WR-RELCALID:3acf66cb905b1904db750856ea72e624
X-WR-TIMEZONE:America/New_York
BEGIN:VTIMEZONE
TZID:America/New_York
BEGIN:STANDARD
TZNAME:EST
DTSTART:20181104T020000
TZOFFSETFROM:-0400
TZOFFSETTO:-0500
RDATE:20191103T020000
RDATE:20201101T020000
END:STANDARD
BEGIN:DAYLIGHT
TZNAME:EDT
DTSTART:20190310T020000
TZOFFSETFROM:-0500
TZOFFSETTO:-0400
RDATE:20200308T020000
END:DAYLIGHT
END:VTIMEZONE
BEGIN:VEVENT
UID:094840c3-d920-4dab-a2d2-f00e1c70aa73
DTSTAMP:20260423T051217Z
DESCRIPTION:Join Darrel the Rainbarrel at the Granville Kiwanis Fourth of J
 uly Parade!
DTSTART;TZID=America/New_York:20190704T100000
DTEND;TZID=America/New_York:20190704T110000
LOCATION:Downtown Granville\, OH
SUMMARY:Soil & Water at Granville 4th of July Parade
END:VEVENT
END:VCALENDAR
