BEGIN:VCALENDAR
VERSION:2.0
PRODID:-//lickingswcd.com//NONSGML kigkonsult.se iCalcreator 2.30.10//
CALSCALE:GREGORIAN
METHOD:PUBLISH
UID:de62e551-33cc-48d6-b49d-97256bb9e521
X-WR-CALDESC:Licking County Farm Bureau\, in partnership with Licking Count
 y OSU Extension and Licking Soil and Water Conservation District\, is host
 ing a Farm Tour this summer.\n\nThe farm tour will be held July 13\, 2019 
 starting at Lynd Fruit Farm\, 9090 Morse Road at 8 a.m. From there\, parti
 cipants will board buses and visit three separate farms: Legends Lane Repr
 oduction Systems\, Lynd’s Blue Frog research farm and SouthFork Dairy. Eac
 h location offers a unique look at agriculture.\n\nThe buses will return t
 o Lynd Fruit Farm following the tours for lunch.\n\nCost for Farm Bureau m
 embers is $10 and non-members are $15. Seating is limited and early reserv
 ations are encouraged. Please call 740-452-2356 to reserve your seat. Paym
 ent is due at the time of reservation.
X-WR-RELCALID:0a1003af0bcb64c15c4f504bb2d6ae5c
X-WR-TIMEZONE:America/New_York
BEGIN:VTIMEZONE
TZID:America/New_York
BEGIN:STANDARD
TZNAME:EST
DTSTART:20181104T020000
TZOFFSETFROM:-0400
TZOFFSETTO:-0500
RDATE:20191103T020000
RDATE:20201101T020000
END:STANDARD
BEGIN:DAYLIGHT
TZNAME:EDT
DTSTART:20190310T020000
TZOFFSETFROM:-0500
TZOFFSETTO:-0400
RDATE:20200308T020000
END:DAYLIGHT
END:VTIMEZONE
BEGIN:VEVENT
UID:2539fcea-87e0-459f-a413-2ce6ddeeaa77
DTSTAMP:20260423T051412Z
DESCRIPTION:Licking County Farm Bureau\, in partnership with Licking County
  OSU Extension and Licking Soil and Water Conservation District\, is hosti
 ng a Farm Tour this summer.\n\nThe farm tour will be held July 13\, 2019 s
 tarting at Lynd Fruit Farm\, 9090 Morse Road at 8 a.m. From there\, partic
 ipants will board buses and visit three separate farms: Legends Lane Repro
 duction Systems\, Lynd’s Blue Frog research farm and SouthFork Dairy. Each
  location offers a unique look at agriculture.\n\nThe buses will return to
  Lynd Fruit Farm following the tours for lunch.\n\nCost for Farm Bureau me
 mbers is $10 and non-members are $15. Seating is limited and early reserva
 tions are encouraged. Please call 740-452-2356 to reserve your seat. Payme
 nt is due at the time of reservation.
DTSTART;TZID=America/New_York:20190713T080000
DTEND;TZID=America/New_York:20190713T130000
LOCATION:Lynd Fruit Farm 9090 Morse Road\, Pataskala\, OH 43062
SUMMARY:Licking County Farm Tour
END:VEVENT
END:VCALENDAR
