BEGIN:VCALENDAR
VERSION:2.0
PRODID:-//lickingswcd.com//NONSGML kigkonsult.se iCalcreator 2.30.10//
CALSCALE:GREGORIAN
METHOD:PUBLISH
UID:64448f58-3208-452d-bd07-11e43a23cdff
X-WR-CALDESC:Why plant rain gardens? The news has recently been saturated (
 pun intended) with water-related headlines about elevated nitrate levels a
 nd localized flooding from heavy rainfall and stormwater runoff.  Toxic al
 gae continues to be a problem at Buckeye Lake and around Ohio.  Rain garde
 ns allow rainwater to slowly soak into the ground and reduce the amount of
  polluted stormwater flowing into nearby streams.   \n\nWhat is a rain bar
 rel? Rain barrels collect and store rainwater from rooftops\, thereby redu
 cing runoff and flooding during storms. Use rain barrel water to irrigate 
 landscaping and gardens while saving money on water bills..  \n\nAt the wo
 rkshop\, view a well-established rain garden\; then learn how to design an
 d install a rain garden on your property.  Next\, build your own rain barr
 el so you can start harvesting rainwater from your roof.\n\nRegistration f
 ee of $50 will be collected at the workshop for the cost of the rain barre
 l.  We can only accept cash or check for payment on site.
X-WR-RELCALID:cc2ed625936029118bb37587e9403254
X-WR-TIMEZONE:America/New_York
BEGIN:VTIMEZONE
TZID:America/New_York
BEGIN:STANDARD
TZNAME:EST
DTSTART:20181104T020000
TZOFFSETFROM:-0400
TZOFFSETTO:-0500
RDATE:20191103T020000
RDATE:20201101T020000
END:STANDARD
BEGIN:DAYLIGHT
TZNAME:EDT
DTSTART:20190310T020000
TZOFFSETFROM:-0500
TZOFFSETTO:-0400
RDATE:20200308T020000
END:DAYLIGHT
END:VTIMEZONE
BEGIN:VEVENT
UID:6afe74a3-5a5a-4939-980b-e7e7a0c52851
DTSTAMP:20260423T050454Z
DESCRIPTION:Why plant rain gardens? The news has recently been saturated (p
 un intended) with water-related headlines about elevated nitrate levels an
 d localized flooding from heavy rainfall and stormwater runoff.  Toxic alg
 ae continues to be a problem at Buckeye Lake and around Ohio.  Rain garden
 s allow rainwater to slowly soak into the ground and reduce the amount of 
 polluted stormwater flowing into nearby streams.   \n\nWhat is a rain barr
 el? Rain barrels collect and store rainwater from rooftops\, thereby reduc
 ing runoff and flooding during storms. Use rain barrel water to irrigate l
 andscaping and gardens while saving money on water bills..  \n\nAt the wor
 kshop\, view a well-established rain garden\; then learn how to design and
  install a rain garden on your property.  Next\, build your own rain barre
 l so you can start harvesting rainwater from your roof.\n\nRegistration fe
 e of $50 will be collected at the workshop for the cost of the rain barrel
 .  We can only accept cash or check for payment on site.
DTSTART;TZID=America/New_York:20190716T180000
DTEND;TZID=America/New_York:20190716T200000
LOCATION:Freedom Park 5261 Taylor Rd SW\, Pataskala\, OH 43062
SUMMARY:DIY Rain Barrels and Rain Gardens
END:VEVENT
END:VCALENDAR
