BEGIN:VCALENDAR
VERSION:2.0
PRODID:-//lickingswcd.com//NONSGML kigkonsult.se iCalcreator 2.30.10//
CALSCALE:GREGORIAN
METHOD:PUBLISH
UID:b3c0d86e-0f69-4551-9131-c2c2df891013
X-WR-CALDESC:The most recent addition to Project WILD is Growing Up WILD\, 
 an activity guide for educators that aims to connect young children with n
 ature and the outdoors. Project Learning Tree offers Environmental Experie
 nces for Early Childhood. Project WET launched Getting Little Feet WET. Pa
 rticipants receive all 3 early childhood education guides to help facilita
 te interactive\, hands-on learning for PreK-2nd grade. OCCRRA approved. \n
 All workshops start at 8:30am and end by 4pm. Graduate and Step Up to Qual
 ity credits available. \nSpace is limited\; pre-registration is required f
 or all workshops. Cost: $5/workshop. Workshops are facilitated by Licking 
 County Soil & Water Conservation District\, Licking Park District and The 
 Dawes Arboretum.  \n
X-WR-RELCALID:cc05ba0be4c9e7043e6abd73828d96f0
X-WR-TIMEZONE:America/New_York
BEGIN:VTIMEZONE
TZID:America/New_York
BEGIN:STANDARD
TZNAME:EST
DTSTART:20181104T020000
TZOFFSETFROM:-0400
TZOFFSETTO:-0500
RDATE:20191103T020000
RDATE:20201101T020000
END:STANDARD
BEGIN:DAYLIGHT
TZNAME:EDT
DTSTART:20190310T020000
TZOFFSETFROM:-0500
TZOFFSETTO:-0400
RDATE:20200308T020000
END:DAYLIGHT
END:VTIMEZONE
BEGIN:VEVENT
UID:550fd629-f1df-4a10-bbac-159589cf4ab3
DTSTAMP:20260423T051659Z
DESCRIPTION:The most recent addition to Project WILD is Growing Up WILD\, a
 n activity guide for educators that aims to connect young children with na
 ture and the outdoors. Project Learning Tree offers Environmental Experien
 ces for Early Childhood. Project WET launched Getting Little Feet WET. Par
 ticipants receive all 3 early childhood education guides to help facilitat
 e interactive\, hands-on learning for PreK-2nd grade. OCCRRA approved. \nA
 ll workshops start at 8:30am and end by 4pm. Graduate and Step Up to Quali
 ty credits available. \nSpace is limited\; pre-registration is required fo
 r all workshops. Cost: $5/workshop. Workshops are facilitated by Licking C
 ounty Soil & Water Conservation District\, Licking Park District and The D
 awes Arboretum.  \n
DTSTART;TZID=America/New_York:20190731T083000
DTEND;TZID=America/New_York:20190731T160000
LOCATION:The Dawes Arboretum\, 7770 Jacksontown Rd\, Newark\, OH 43056
SUMMARY:Educator Workshop Series: Environmental Education for Early Childho
 od
END:VEVENT
END:VCALENDAR
