BEGIN:VCALENDAR
VERSION:2.0
PRODID:-//lickingswcd.com//NONSGML kigkonsult.se iCalcreator 2.30.10//
CALSCALE:GREGORIAN
METHOD:PUBLISH
UID:e058cbe7-e9dc-43c4-bb06-7ed877b23dec
X-WR-CALDESC:The South Licking Watershed Conservancy District includes port
 ions of Licking\, Fairfield and Perry counties. Conservancy districts are 
 charged with reducing flooding\; management of streams wetlands and relate
 d conservation\; and water quality and supply issues.
X-WR-RELCALID:13b1ea26a2cc91b4394617a0f1e61092
X-WR-TIMEZONE:America/New_York
BEGIN:VTIMEZONE
TZID:America/New_York
BEGIN:STANDARD
TZNAME:EST
DTSTART:20181104T020000
TZOFFSETFROM:-0400
TZOFFSETTO:-0500
RDATE:20191103T020000
RDATE:20201101T020000
END:STANDARD
BEGIN:DAYLIGHT
TZNAME:EDT
DTSTART:20190310T020000
TZOFFSETFROM:-0500
TZOFFSETTO:-0400
RDATE:20200308T020000
END:DAYLIGHT
END:VTIMEZONE
BEGIN:VEVENT
UID:c55f403c-63bf-48b9-a29f-563d0b0042c4
DTSTAMP:20260423T065823Z
DESCRIPTION:The South Licking Watershed Conservancy District includes porti
 ons of Licking\, Fairfield and Perry counties. Conservancy districts are c
 harged with reducing flooding\; management of streams wetlands and related
  conservation\; and water quality and supply issues.
DTSTART;TZID=America/New_York:20190812T180000
DTEND;TZID=America/New_York:20190812T190000
LOCATION:Village of Hebron Municipal Complex\, 934 W. Main Street\, Hebron\
 , OH 43025.
SUMMARY:South Licking Watershed Conservancy District Monthly Meeting
END:VEVENT
END:VCALENDAR
