BEGIN:VCALENDAR
VERSION:2.0
PRODID:-//lickingswcd.com//NONSGML kigkonsult.se iCalcreator 2.30.10//
CALSCALE:GREGORIAN
METHOD:PUBLISH
UID:a646c282-9a93-4fed-b214-c3ad87622779
X-WR-CALDESC:As Licking County Soil and Water Conservation District (SWCD) 
 strives to enhance and protect our\nnatural resources\, especially water\,
  we would like to take the first step in gaining community\ninvolvement an
 d ownership. As this goal is accomplished\, the community will gain a bett
 er\nunderstanding and respect for water\, water quality\, and why it is im
 portant to become stewards of the\nland. Our community will also become mo
 re aware that they live in a watershed and everyday activities by\nindivid
 uals affects the water everyone uses.\n\nInterested in getting involved?  
 Join the Stream Team!  Soil & Water provides all the supplies\; you adopt 
 a stream and share data with our office.  It’s that easy!
X-WR-RELCALID:a699ce995ad9291166cc0136bc2d997b
X-WR-TIMEZONE:America/New_York
BEGIN:VTIMEZONE
TZID:America/New_York
BEGIN:STANDARD
TZNAME:EST
DTSTART:20181104T020000
TZOFFSETFROM:-0400
TZOFFSETTO:-0500
RDATE:20191103T020000
RDATE:20201101T020000
END:STANDARD
BEGIN:DAYLIGHT
TZNAME:EDT
DTSTART:20190310T020000
TZOFFSETFROM:-0500
TZOFFSETTO:-0400
RDATE:20200308T020000
END:DAYLIGHT
END:VTIMEZONE
BEGIN:VEVENT
UID:321db7a5-e995-410a-9547-bcc856c2f20f
DTSTAMP:20260423T070213Z
DESCRIPTION:As Licking County Soil and Water Conservation District (SWCD) s
 trives to enhance and protect our\nnatural resources\, especially water\, 
 we would like to take the first step in gaining community\ninvolvement and
  ownership. As this goal is accomplished\, the community will gain a bette
 r\nunderstanding and respect for water\, water quality\, and why it is imp
 ortant to become stewards of the\nland. Our community will also become mor
 e aware that they live in a watershed and everyday activities by\nindividu
 als affects the water everyone uses.\n\nInterested in getting involved?  J
 oin the Stream Team!  Soil & Water provides all the supplies\; you adopt a
  stream and share data with our office.  It’s that easy!
DTSTART;TZID=America/New_York:20190815T173000
DTEND;TZID=America/New_York:20190815T193000
LOCATION:Riverview Preserve\, 375 Ohio St\, Newark
SUMMARY:Stream Team
END:VEVENT
END:VCALENDAR
