BEGIN:VCALENDAR
VERSION:2.0
PRODID:-//lickingswcd.com//NONSGML kigkonsult.se iCalcreator 2.30.10//
CALSCALE:GREGORIAN
METHOD:PUBLISH
UID:076ddd0b-1cae-4c9c-822d-05cb74a33ec7
X-WR-CALDESC:Visit Soil & Water and explore where worms live at the Worm Tu
 nnel!\nS.T.E.M. is a curriculum based on the idea of educating students in
  four specific disciplines — science\, technology\, engineering and mathem
 atics — in an interdisciplinary and applied approach. Rather than teach th
 e four disciplines as separate and discrete subjects\, STEM integrates the
 m into a cohesive learning paradigm based on real-world applications.\n\nW
 hat is STEM on the Square? \nIt's a collaboration of community partners fr
 om Licking County and offering hands-on opportunities for local students t
 o explore Science\, Technology\, Engineering and Math. Students will have 
 an opportunity to interview professionals about careers and learn more abo
 ut STEM.
X-WR-RELCALID:678ce0640a40ed8973ce25732071a71d
X-WR-TIMEZONE:America/New_York
BEGIN:VTIMEZONE
TZID:America/New_York
BEGIN:STANDARD
TZNAME:EST
DTSTART:20181104T020000
TZOFFSETFROM:-0400
TZOFFSETTO:-0500
RDATE:20191103T020000
RDATE:20201101T020000
END:STANDARD
BEGIN:DAYLIGHT
TZNAME:EDT
DTSTART:20190310T020000
TZOFFSETFROM:-0500
TZOFFSETTO:-0400
RDATE:20200308T020000
END:DAYLIGHT
END:VTIMEZONE
BEGIN:VEVENT
UID:979b005f-3271-4876-81d1-837fdef4d616
DTSTAMP:20260423T070022Z
DESCRIPTION:Visit Soil & Water and explore where worms live at the Worm Tun
 nel!\nS.T.E.M. is a curriculum based on the idea of educating students in 
 four specific disciplines — science\, technology\, engineering and mathema
 tics — in an interdisciplinary and applied approach. Rather than teach the
  four disciplines as separate and discrete subjects\, STEM integrates them
  into a cohesive learning paradigm based on real-world applications.\n\nWh
 at is STEM on the Square? \nIt's a collaboration of community partners fro
 m Licking County and offering hands-on opportunities for local students to
  explore Science\, Technology\, Engineering and Math. Students will have a
 n opportunity to interview professionals about careers and learn more abou
 t STEM.
DTSTART;TZID=America/New_York:20190830T170000
DTEND;TZID=America/New_York:20190830T200000
LOCATION:Downtown Newark on the Square
SUMMARY:Downtown Newark Association STEM Final Friday
END:VEVENT
END:VCALENDAR
