BEGIN:VCALENDAR
VERSION:2.0
PRODID:-//lickingswcd.com//NONSGML kigkonsult.se iCalcreator 2.30.10//
CALSCALE:GREGORIAN
METHOD:PUBLISH
UID:ffc2a4a9-475a-4bf9-86f6-9363e4d5d319
X-WR-CALDESC:The Board is actively seeking interested\, conservation-minded
  leaders to continue the mission of promoting conservation of natural reso
 urces through local leadership\, education and technical assistance.  The 
 Supervisors\, elected by county residents and landowners\, help chart the 
 course for soil and water conservation and natural resources management in
  Licking County.  The Board also provides supervision to the Program Admin
 istrator\, oversight of fiscal decisions and technical expertise.  \n \nTh
 e Board is composed of representatives from agricultural and urban backgro
 unds\, educators and technical experts serving a three-year term as public
  officials.  One Board member will be elected the evening of Wednesday\, N
 ovember 6\, 2019 during the Annual Banquet and Volunteer Recognition at Th
 e Grove by the River\, 840 Hollander Street\, Newark\, OH  43055.  \n\nThe
  deadline for submitting a Candidate Information Form is September 11\, 20
 19. \n \nIf you have any questions regarding becoming a candidate or the e
 lection on November 6th\, please contact the Nominating Committee at 740-6
 70-5330 or Information@LickingSWCD.com.\n
X-WR-RELCALID:0810f0e53d6a8b54a2f1bd841f1d4d55
X-WR-TIMEZONE:America/New_York
BEGIN:VTIMEZONE
TZID:America/New_York
BEGIN:STANDARD
TZNAME:EST
DTSTART:20181104T020000
TZOFFSETFROM:-0400
TZOFFSETTO:-0500
RDATE:20191103T020000
RDATE:20201101T020000
END:STANDARD
BEGIN:DAYLIGHT
TZNAME:EDT
DTSTART:20190310T020000
TZOFFSETFROM:-0500
TZOFFSETTO:-0400
RDATE:20200308T020000
END:DAYLIGHT
END:VTIMEZONE
BEGIN:VEVENT
UID:b3dc08f2-b260-40d8-a9d7-ab529ed710c9
DTSTAMP:20260423T091624Z
DESCRIPTION:The Board is actively seeking interested\, conservation-minded 
 leaders to continue the mission of promoting conservation of natural resou
 rces through local leadership\, education and technical assistance.  The S
 upervisors\, elected by county residents and landowners\, help chart the c
 ourse for soil and water conservation and natural resources management in 
 Licking County.  The Board also provides supervision to the Program Admini
 strator\, oversight of fiscal decisions and technical expertise.  \n \nThe
  Board is composed of representatives from agricultural and urban backgrou
 nds\, educators and technical experts serving a three-year term as public 
 officials.  One Board member will be elected the evening of Wednesday\, No
 vember 6\, 2019 during the Annual Banquet and Volunteer Recognition at The
  Grove by the River\, 840 Hollander Street\, Newark\, OH  43055.  \n\nThe 
 deadline for submitting a Candidate Information Form is September 11\, 201
 9. \n \nIf you have any questions regarding becoming a candidate or the el
 ection on November 6th\, please contact the Nominating Committee at 740-67
 0-5330 or Information@LickingSWCD.com.\n
DTSTART;TZID=America/New_York:20190911T130000
DTEND;TZID=America/New_York:20190911T140000
LOCATION:Soil & Water\, 771 East Main Street\, Suite 100\, Newark\, OH
SUMMARY:Board Candidate Information Form Deadline
END:VEVENT
END:VCALENDAR
